BEGIN:VCALENDAR
PRODID:-//eluceo/ical//2.0/EN
VERSION:2.0
CALSCALE:GREGORIAN
BEGIN:VEVENT
UID:052bb9962454b9b9032740b4ecedc2b1
DTSTAMP:20260423T150357Z
SUMMARY:SelectUSA: investiční příležitosti pro české firmy v USA
DESCRIPTION:Název akce: SelectUSA: investiční příležitosti pro česk
 é firmy v USA\nURL: https://www.spcr.cz/selectusa-investicni-prilezitosti
 -pro-ceske-firmy-v-usa\nPopis: \nObchodní oddělení Velvyslanectví USA 
 v Praze zve české společnosti na dvě navazující akce v rámci progra
 mu SelectUSA\, oficiální iniciativy vlády USA na podporu a usnadnění 
 zahraničních investic ve Spojených státech. Akce jsou určeny zejména
  firmám\, které zvažují expanzi nebo investici v USA v horizontu pří
 štích 2–3 let. \nKulatý stůl s AlabamouPrvní z akcí se uskutečn
 í 23. ledna 2026 a půjde o investiční kulatý stůl se zástupci stát
 u Alabama. Setkání nabídne praktické informace o investičních pobíd
 kách\, možnostech umístění podnikání\, dostupnosti pracovní síly 
 i orientaci v místních regulacích. Akce proběhne od 10:00 do 12:00 v A
 merickém centru na adrese Tržiště 13\, Praha 1. Registrovat se můžet
 e na emailové adrese vilem.fuksa@trade.gov.  Investiční konferenceDruh
 ou akcí je investiční konference SelectUSA\, která se bude konat 5. b
 řezna 2026 v Praze (místo bude upřesněno). Celodenní konference posky
 tne komplexní přehled o investičním prostředí v USA – od vízovýc
 h otázek\, právního a daňového rámce až po praktické zkušenosti 
 českých firem\, které již na americkém trhu působí. Součástí pro
 gramu budou také individuální konzultace se zástupci jednotlivých ame
 rických států zaměřenými na hospodářský rozvoj. Konference probě
 hne v angličtině\, účast je bezplatná a pohoštění bude zajištěno
 \; kapacita je však omezená\, proto je doporučena včasná registrace n
 a odkazu ZDE. Akce jsou vhodné pro firmy plánující založení právn
 í entity v USA\, rozšíření obchodních\, skladovacích či výrobníc
 h kapacit\, stejně jako pro startupy a scaleupy s reálným investičním
  záměrem.V případě zájmu nebo dotazů se můžete obrátit na Vilém
 a Fuksu z obchodního oddělení Velvyslanectví USA v Praze: 📧 vilem.
 fuksa@trade.gov | 📞 257 022 315  \n
URL:https://www.spcr.cz/selectusa-investicni-prilezitosti-pro-ceske-firmy-v
 -usa
DTSTART:20260123T080000
DTEND:20260123T180000
LOCATION:Praha
END:VEVENT
END:VCALENDAR
