BEGIN:VCALENDAR
PRODID:-//eluceo/ical//2.0/EN
VERSION:2.0
CALSCALE:GREGORIAN
BEGIN:VEVENT
UID:8cb9562f9d65d89185290f0bba243e19
DTSTAMP:20260423T043522Z
SUMMARY:Iraq National Trade Forum 2026
DESCRIPTION:Název akce: Iraq National Trade Forum 2026\nURL: https://www.s
 pcr.cz/iraq-national-trade-forum-2026\nPopis: \n\nIraq National Trade Foru
 m (INTF) je nejvýznamnější irácká platforma pro mezinárodní obchod
  a investice. Ročník 2026 se uskuteční 6.–7. května 2026 v Bagdádu
 . Pořádá ho irácké ministerstvo obchodu a místní centrum mezinárod
 ního obchodu ve spolupráci s Federací iráckých obchodních komor (FIC
 C) a širokým spektrem partnerů z privátního i rozvojového sektoru. K
 oná se za podpory Evropské unie.Co je cílem fóra?INTF 2026 navazuje na
  předchozí úspěšné ročníky\, které přilákaly více než 1 000 
 účastníků a přinesly obchodní příležitosti v hodnotě 8\,3 milion
 u dolarů. Letošní ročník si klade za cíl zprostředkovat konkrétní
  obchodní dohody a investiční projekty\, jež podpoří konkurenceschop
 nost Iráku a urychlí jeho hospodářskou transformaci směrem k zeleněj
 ší a digitální budoucnosti.ProgramPlenární jednání na vysoké úro
 vni zaměřená na strategické směřování iráckého obchodu a investi
 c.Cílené B2B aktivity\, které propojí irácké podniky s mezinárodní
 mi kupci\, investory a institucemi.Specializované technické workshopy p
 řinášející praktické poznatky o přístupu na zahraniční trhy\, us
 nadnění obchodu\, financování\, inovacích a digitalizaci.Přehlídka 
 formou bazaaru\, která představí domácí produkty a kreativitu podnika
 telů ze všech iráckých regionů.Networkingové příležitosti a dopro
 vodný program\, včetně koktejlového večera\, živých produktových p
 rezentací a ocenění „Iraqi Product of the Year“.Proč by fórum mě
 lo zajímat mezinárodní investory?Irák aktivně hledá partnery pro svo
 u ekonomickou transformaci a otevírá nové možnosti v řadě strategick
 ých sektorů.Forum nabídne přístup k investičně připraveným projek
 tům a umožní napojení na rostoucí ekosystém iráckých MSMEs.Poskytn
 e jedinečnou příležitost setkat se s klíčovými představiteli stát
 ní správy\, byznysu i rozvojových institucí.Zdůrazněny budou konkré
 tní výsledky\, inovace\, digitalizace a příběhy úspěšných firem v
 četně podniků vedených ženami a mladými lidmi.Kdo by se měl zúčas
 tnit?Fórum je určeno investorům\, mezinárodním dodavatelům\, finanč
 ním institucím i firmám z oblastí zemědělství\, potravinářství\,
  moderní energetiky\, stavebnictví\, logistiky\, ICT a dalších sektor
 ů\, které hledají perspektivní příležitosti na Blízkém východě.
 Praktické informaceTermín: 6.–7. května 2026Registrace do 15. března
  2026Místo: Bagdád (adresa bude upřesněna)Účast je bezplatná a pouz
 e na pozvání. Výběr účastníků proběhne na základě stanovených 
 kritérií. Potvrzení účasti bude doručeno do 1. dubna 2026. Registra
 ce a další info \n
URL:https://www.spcr.cz/iraq-national-trade-forum-2026
DTSTART:20260506T080000
DTEND:20260507T160000
LOCATION:Baghdad
END:VEVENT
END:VCALENDAR
