BEGIN:VCALENDAR
PRODID:-//eluceo/ical//2.0/EN
VERSION:2.0
CALSCALE:GREGORIAN
BEGIN:VEVENT
UID:5e7b02b35564dfdd96e15c6bab7a962a
DTSTAMP:20260423T163429Z
SUMMARY:Mezinárodní veletrh TaiSPO 2026
DESCRIPTION:Název akce: Mezinárodní veletrh TaiSPO 2026\nURL: https://ww
 w.spcr.cz/mezinarodni-veletrh-taispo-2026\nPopis: \n\nDovolujeme si Vás p
 ozvat na mezinárodní veletrh pořádaný Tchajpejskou hospodářskou a k
 ulturní kanceláří v Praze\, TaiSPO 2026\, jeden z nejvýznamnějších
  asijských veletrhů zaměřených na sportovní zboží\, který se bude
  konat v Taipei Nangang Exhibition Center ve dnech 25.–28. března 2026.
 V letošním roce se veletrh TaiSPO proměnil v komplexní platformu sport
 ovního průmyslu\, která propojuje oblasti tréninku\, technologií\, zd
 raví\, outdoorových aktivit a týmových sportů. Otevírá tak nové p
 říležitosti pro mezioborovou spolupráci globálních nákupčích a vy
 stavovatelů.Veletrh nabídne 7 hlavních výstavních zón\, včetně:ind
 oorového fitnessoutdoorových sportůvodních sportůsportu a módymarket
 ingu a služebfitness pro všechny věkové kategorieA dále 3 klíčové 
 tematické pavilony:Women’s Fitness (fitness pro ženy)Sports Nutrition 
 & Recovery (sportovní výživa a regenerace)Golf Performance (výkonnost 
 v golfu) Aktuální informace naleznete na oficiálních webových strán
 kách.Na podporu účasti na tomto veletrhu jsou nabízeny pobídkové bal
 íčky (nabídka platí do vyčerpání finančního rozpočtu a balíčky
  jsou poskytovány podle pořadí přijetí přihlášky).Pro registraci a
  podání pobídkové přihlášky je třeba vyplnit formulář "company p
 rofile" a zaslat jej na emailovou adresu czech@sa.moea.gov.tw nebo cztwec0
 1@sa.moea.org.tw Pro další informace se obraťte na následující kont
 akt:Mgr. Michaela OrságováEkonomické odděleníTchajpejská hospodářs
 ká a kulturní kancelář v PrazeTel.: (+420) 234 722 021 \n
URL:https://www.spcr.cz/mezinarodni-veletrh-taispo-2026
DTSTART:20260325T120000
DTEND:20260328T235900
LOCATION:Taipei Nangang Exhibition Center
END:VEVENT
END:VCALENDAR
