BEGIN:VCALENDAR
PRODID:-//eluceo/ical//2.0/EN
VERSION:2.0
CALSCALE:GREGORIAN
BEGIN:VEVENT
UID:ddbd0a5fb2019917ac535ce7d71a8f87
DTSTAMP:20260423T163429Z
SUMMARY:International Jordan Food Exhibition 2026
DESCRIPTION:Název akce: International Jordan Food Exhibition 2026\nURL: ht
 tps://www.spcr.cz/international-jordan-food-exhibition-2026\nPopis: \nZvem
 e vás k účasti na 10. ročníku mezinárodního veletrhu International 
 Jordan Food Exhibition 2026 (Jordan Food)\, který se uskuteční 10.–14
 . února 2026 v Ammánu v prostorách Jordan International Exhibition Cent
 er (Mecca Mall – Gate 3). Jedná se o největší každoroční potravin
 ářský veletrh v Jordánsku\, pořádaný společností IPCO\, zaměřen
 ý na propojení místních i mezinárodních výrobců\, obchodníků\, d
 istributorů a nákupčích z oblasti potravin a nápojů.  \nVeletrh na
 bízí atraktivní platformu pro prezentaci značky\, navazování nových
  obchodních vztahů a sledování aktuálních trendů a inovací v gastr
 onomickém průmyslu. Zaměřuje se na široké spektrum oborů\, včetně
  masa a masných výrobků\, mléčných výrobků\, mražených a chlazen
 ých polotovarů i dalších potravinářských a nápojových produktů. 
 Účastníkům přináší příležitost oslovit partnery z regionu Blíz
 kého východu i z dalších světových trhů.K dispozici je pozvánka a 
 informační brožura\, které podrobně představují přínosy pro vysta
 vovatele\, ceník pronájmu výstavní plochy\, možnosti sponzoringu\, te
 chnické parametry stánků\, registrační formulář i přehledný plán
 ek výstaviště. Základní informace o veletrhu:Termín konání: 10.
 –14. února 2026Místo: Jordan International Exhibition Center\, Mecca M
 all – Gate 3\, AmmánOtevírací doba: denně od 14:00 do 21:00Cena výs
 tavní plochy: 350 USD/m² (bez DPH)Více informací naleznete v přilože
 ných materiálech a na webových stránkách organizátora www.ipco.jo. 
 V případě zájmu se můžete obrátit také přímo na organizátory:Ah
 mad Almasri\, Marketing Manager – ahmad@ipco.jo\, tel. +962 79 613 3023L
 een Abu Wandy\, Marketing Officer – leen@ipco.jo\, tel. +962 79 084 8435
  \n
URL:https://www.spcr.cz/international-jordan-food-exhibition-2026
DTSTART:20260210T080000
DTEND:20260214T180000
LOCATION:Ammán
END:VEVENT
END:VCALENDAR
