BEGIN:VCALENDAR
PRODID:-//eluceo/ical//2.0/EN
VERSION:2.0
CALSCALE:GREGORIAN
BEGIN:VEVENT
UID:1117525e6a413b81198bb0c073382a92
DTSTAMP:20260423T130015Z
SUMMARY:Podpora investic v Africe\, LATAM\, Asii a Tichomoří - webinář
DESCRIPTION:Název akce: Podpora investic v Africe\, LATAM\, Asii a Tichomo
 ří - webinář\nURL: https://www.spcr.cz/podpora-investic-v-africe-latam
 -asii-tichomori-webinar\nPopis: \n\nWebinář o podpoře investic v Africe
 \, Latinské Americe a Karibiku\, Asii a Tichomoří představí Investmen
 t Hub - nový kanál\, prostřednictvím kterého může soukromý sektor 
 EU předkládat investiční návrhy v rámci iniciativy Global Gateway. 
 Účastníci získají přehled o tom\, jak se do iniciativy zapojit\, a b
 udou mít možnost dozvědět se více v rámci vyhrazené části pro ot
 ázky a odpovědi. Pořadatelem je DG INTPA.Obsah webináře:Jak funguje n
 ový Investment Hub a jak podat investiční návrhJaké typy finanční a
  nefinanční podpory můžete získat (granty\, záruky\, technická asis
 tence\, politická podpora aj.)Jak se zapojit do projektů a jak vám mů
 že pomoci tzv. Team NationalProstor pro dotazy a odpovědiKdy: 28. ledna\
 , 14:00–15:30 Registrace: do 22. lednaPro koho: EU firmy a podnikatelsk
 á sdružení působící v Africe\, Asii\, Latinské Americe a KaribikuV
 íce informací a registrace \n
URL:https://www.spcr.cz/podpora-investic-v-africe-latam-asii-tichomori-webi
 nar
DTSTART:20260128T140000
DTEND:20260128T153000
LOCATION:
END:VEVENT
END:VCALENDAR
