BEGIN:VCALENDAR
PRODID:-//eluceo/ical//2.0/EN
VERSION:2.0
CALSCALE:GREGORIAN
BEGIN:VEVENT
UID:a2900b81f05ec3bd1f90aea179b3b975
DTSTAMP:20260423T130015Z
SUMMARY:Setkání s nákupčími OSN ve Vídni 
DESCRIPTION:Název akce: Setkání s nákupčími OSN ve Vídni \nURL: http
 s://www.spcr.cz/setkani-s-nakupcimi-osn-ve-vidni\nPopis: \n\nČeské firmy
  budou mít 9. a 10. června 2026 ve Vídni jedinečnou příležitost set
 kat se osobně s nákupčími jednotlivých agentur OSN\, jako jsou např
 íklad WHO\, UNICEF nebo WIPO. Cílem akce\, kterou organizuje CzechTrade
  společně s českým zastupitelským úřadem v Rakousku\, je seznámit 
 Čechy s možnostmi dodávek poměrně širokého poptávkového portfolia
  výrobků i služeb. Na programu je také jednací část v podobě B2B s
 etkávání. Z posledního vídeňského setkání v roce 2024 eviduje Cz
 echTrade 8 českých firem\, které získaly kontrakt\, přičemž někter
 é z jejich dodávek se pohybují v řádu stovek milionů korun. Fyzick
 á účast na akci s účastí na B2B jednání je omezená na 40 osob. R
 ozhoduje datum doručení přihlášky. Doporučujeme ji zasílat rovnou n
 a e-mail: jan.spunda@czechtrade.gov.cz Alternativa online nebo v New York
 u Další setkání s nákupčími OSN se uskuteční rovněž ve dnech 2
 1.-22. dubna 2026 online a 28.-29. dubna prezenčně v New Yorku. Na setk
 ání do New Yorku se bude možné přihlásit od druhé poloviny ledna. B
 ližší informace k setkání v USA poskytne zástupce generálního konz
 ula ČR v New Yorku Michal Kaplan: michal.kaplan@mzv.gov.cz  \n
URL:https://www.spcr.cz/setkani-s-nakupcimi-osn-ve-vidni
DTSTART:20260609T090000
DTEND:20260610T170000
LOCATION:UN Vienna 
END:VEVENT
END:VCALENDAR
