BEGIN:VCALENDAR
PRODID:-//eluceo/ical//2.0/EN
VERSION:2.0
CALSCALE:GREGORIAN
BEGIN:VEVENT
UID:aae477c16a02a4501d304f16fc6ff20d
DTSTAMP:20260423T173031Z
SUMMARY:Diskuze: OECD a byznys v nové éře 
DESCRIPTION:Název akce: Diskuze: OECD a byznys v nové éře \nURL: https:
 //www.spcr.cz/diskuze-oecd-byznys-v-nove-ere\nPopis: \n\nMinisterstvo zahr
 aničních věcí ČR ve spolupráci s Vysokou školou ekonomickou v Praze
  Vás srdečně zve na panelovou diskusi u příležitosti 30. výročí 
 členství ČR v OECD.Akce nabídne ohlédnutí za třemi dekádami spolup
 ráce a otevře debatu o tom\, jak geoekonomické posuny formují globáln
 í obchodní vztahy a mezinárodní pravidla. Digitální a energetická t
 ranzice\, požadavky udržitelnosti a proměna geopolitické dynamiky zás
 adně mění prostředí\, v němž působí aktéři veřejného i soukro
 mého sektoru. Diskuse se zaměří na hledání cest\, jak společně vyu
 žít příležitosti technologické éry k dosažení odolného a udržit
 elného růstu.PROGRAM14:30 – 14:40 | Úvodní slovoPetr Dvořák\, rekt
 or\, Vysoká škola ekonomická v Praze (tbc)Marie Chatardová\, náměstk
 yně člena vlády\, Ministerstvo zahraničních věcí ČR14:40 – 15:30
  | Keynote a strategická reflexeOd transformace k odolnosti: 30 let člen
 ství Česka v OECDFrantišek Ružička\, zástupce generálního tajemní
 ka OECDBlanka Fajkusová\, Ministerstvo zahraničních věcí ČRModeráto
 r: Aleš Chmelař\, velvyslanec ČR při OECD15:45 – 16:45 | Panelová d
 iskuseČesko v ekonomice zítřka: inovace\, udržitelnost a globální ko
 nkurenceschopnostMarion Jansen\, ředitelka pro obchod\, OECDMartin Vohán
 ka\, zakladatel a CEO\, Eurowag\; ambasador Druhé ekonomické transformac
 e Ayaz Zeynalov\, odborný asistent\, Fakulta mezinárodních vztahů\, V
 ŠEModerátor: Ondřej Houska\, Hospodářské noviny16:45 | Networking a 
 neformální diskuseČíše vínaDiskuse proběhne v angličtině bez tlum
 očení.Na akci je nutná registrace\, kterou naleznete zde. Kapacita sál
 u je omezená\, prosíme o registraci do 19.1. \n
URL:https://www.spcr.cz/diskuze-oecd-byznys-v-nove-ere
DTSTART:20260121T143000
DTEND:20260121T170000
LOCATION:VŠE v Praze\, Akademický klub
END:VEVENT
END:VCALENDAR
