BEGIN:VCALENDAR
PRODID:-//eluceo/ical//2.0/EN
VERSION:2.0
CALSCALE:GREGORIAN
BEGIN:VEVENT
UID:3da12cc6f8699695b35f9d3b89b8c5fc
DTSTAMP:20260423T163435Z
SUMMARY:NATO akcelerátor: Poznejte nováčky programu
DESCRIPTION:Název akce: NATO akcelerátor: Poznejte nováčky programu\nUR
 L: https://www.spcr.cz/nato-akcelerator-poznejte-novacky-programu\nPopis: 
 \n\nCzechInvest a Czech DIANA Accelerator Lead vás zvou na představení 
 firem přidělených pro letošní rok do akceleračního programu NATO DI
 ANA\, letos na téma Space a Critical Infrastructure & Logistics. Akce se
  koná 21. ledna od 15:00 v Zenwork Praha. Jedná se o portfolio firem s 
 technologiemi od nukleárního reaktoru ve vesmíru\, laseru dopravující
 ho energii na velkou vzdálenost nebo AI zefektivnění výrobních linek 
 až po vzdálenou kontrolu poškození infastruktury\, dronovou logistiku 
 a podobné. Více naleznete v sekci Ke stažení. ⇣⇣⇣Registrujte se 
 na akci \n
URL:https://www.spcr.cz/nato-akcelerator-poznejte-novacky-programu
DTSTART:20260121T150000
DTEND:20260121T190000
LOCATION:Zenwork\, Praha
END:VEVENT
END:VCALENDAR
