BEGIN:VCALENDAR
PRODID:-//eluceo/ical//2.0/EN
VERSION:2.0
CALSCALE:GREGORIAN
BEGIN:VEVENT
UID:e0f3ce51f06fc35b0b4d33bbb007ee65
DTSTAMP:20260423T150421Z
SUMMARY:COMPUTEX TAIPEI
DESCRIPTION:Název akce: COMPUTEX TAIPEI\nURL: https://www.spcr.cz/computex
 -taipei\nPopis: \n\nDovolujeme si Vás pozvat na mezinárodní veletrh po
 řádaný Tchajpejskou hospodářskou a kulturní kanceláří v Praze\, C
 OMPUTEX TAIPEI\, přední světovou výstavu věnovanou AIoT a startupům.
  Letošní ročník veletrhu se ponese v duchu tématu „AI Together“ a
  zaměří se na tři klíčové oblasti: AI a computing\, robotiku a mobi
 litu a technologie nové generace. COMPUTEX tak vytvoří ideální platfo
 rmu pro globální technologické lídry\, kteří zde mohou navazovat mez
 inárodní partnery.Aktuální informace naleznete na oficiálních webov
 ých stránkách.Na podporu účasti na tomto veletrhu nabízíme následu
 jící pobídkové balíčky. Upozorňujeme\, že nabídky platí do vyče
 rpání finančního rozpočtu a balíčky jsou poskytovány podle pořad
 í přijetí přihlášky. Z balíčku pobídek si můžete vybrat pouze j
 ednu možnost.Pro registraci a podání pobídkové přihlášky je třeba
  vyplnit formulář "company profile" a zaslat jej na emailovou adresu cze
 ch@sa.moea.gov.tw nebo cztwec01@sa.moea.org.twPro další informace se obr
 aťte na následující kontakt:Mgr. Michaela OrságováEkonomické odděl
 eníTchajpejská hospodářská a kulturní kancelář v PrazeTel.: (+420)
  234 722 021\n
URL:https://www.spcr.cz/computex-taipei
DTSTART:20260602T080000
DTEND:20260605T200000
LOCATION:Taipei Nangang Exhibition Center\, Taipei World Trade Center Hall 
 1
END:VEVENT
END:VCALENDAR
