BEGIN:VCALENDAR
PRODID:-//eluceo/ical//2.0/EN
VERSION:2.0
CALSCALE:GREGORIAN
BEGIN:VEVENT
UID:1aef6f0d1b94b6945b77bbf05e2df735
DTSTAMP:20260423T125336Z
SUMMARY:Food Taipei Mega Shows 2026
DESCRIPTION:Název akce: Food Taipei Mega Shows 2026\nURL: https://www.spcr
 .cz/food-taipei-mega-shows-2026\nPopis: \n\nDovolujeme si Vás pozvat na m
 ezinárodní veletrh pořádaný Tchajpejskou hospodářskou a kulturní k
 anceláří v Praze\, Food Taipei Mega Shows 2026\, které se budou konat 
 ve dnech 24.–27. června 2026 v Taipei Nangang Exhibition Center a Taipe
 i World Trade Center Hall 1 (TWTC Hall 1). Součástí akce budou také so
 uběžné veletrhy pokrývající různé oblasti potravinářského prům
 yslu. Pro více informací a nejnovější aktuality prosím navštivte of
 iciální webové stránky jednotlivých veletrhů níže.Pod hlavním té
 matem roku 2026 „SMART EATING\, GREEN LIVING“ představuje Food Taipei
  Mega Shows budoucnost globálního potravinářského průmyslu. Koncept 
 SMART EATING se zaměřuje na precizní výživu\, personalizované stravo
 vání a inovace nové generace\, zatímco GREEN LIVING klade důraz na en
 ergeticky úsporné\, nízkouhlíkové technologie a udržitelná řešen
 í. Veletrh spojuje vše od surovin a zpracovatelských technologií až p
 o chytré obaly a gastronomické vybavení a propojuje světové lídry a 
 inovace napříč celým dodavatelským řetězcem potravinářského prů
 myslu.FOOD TAIPEI (Taipei Int'l Food Show):Taipei International Food Show-
 Official WebsiteFOODTECH TAIPEI (Taipei Int'l Food Processing Machinery Sh
 ow)https://www.foodtech.com.tw/en/index.htmlTAIPEI PACK (Taipei Int'l Pack
 aging Industry Show):https://www.taipeipack.com.tw/en/index.htmlTAIWAN HOR
 ECA (Taiwan Int'l Hotel\, Restaurant & Catering Show):https://www.taiwanho
 reca.com.tw/en/index.html Na podporu účasti na tomto veletrhu nabízím
 e následující pobídkové balíčky (Food\, Other). Upozorňujeme\, že
  nabídky platí do vyčerpání finančního rozpočtu a balíčky jsou p
 oskytovány podle pořadí přijetí přihlášky. Z nabídky se můžete 
 přihlásit pouze na jeden veletrh. V rámci pobídkových balíčků si m
 ůžete zvolit pouze jednu možnost.Pro registraci a podání pobídkové 
 přihlášky vyplňte prosím přiložený formulář "company profile" (F
 ood\, FoodTech\, Pack) a zašlete jej na emailovou adresu czech@sa.moea.go
 v.tw nebo cztwec01@sa.moea.gov.tw.Pro další informace se obraťte na ná
 sledující kontakt:Mgr. Michaela OrságováEkonomické odděleníTchajpej
 ská hospodářská a kulturní kancelář v PrazeTel.: (+420) 234 722 021
 \n
URL:https://www.spcr.cz/food-taipei-mega-shows-2026
DTSTART:20260624T080000
DTEND:20260626T200000
LOCATION:Taipei Nangang Exhibition Center
END:VEVENT
END:VCALENDAR
