BEGIN:VCALENDAR
PRODID:-//eluceo/ical//2.0/EN
VERSION:2.0
CALSCALE:GREGORIAN
BEGIN:VEVENT
UID:0a55a0b6bd367914a47ccb5c6ab826c8
DTSTAMP:20260423T193055Z
SUMMARY:Mezinárodní veletrh Medical Taiwan 2026
DESCRIPTION:Název akce: Mezinárodní veletrh Medical Taiwan 2026\nURL: ht
 tps://www.spcr.cz/mezinarodni-veletrh-medical-taiwan-2026\nPopis: \n\nDovo
 lujeme si Vás pozvat na mezinárodní veletrh pořádaný Tchajpejskou ho
 spodářskou a kulturní kanceláří v Praze\, Medical Taiwan 2026\, kter
 ý se bude konat ve dnech 25. až 27. června 2026 v Taipei Nangang Exhibi
 tion Center.Medical Taiwan je jedním z nejvlivnějších veletrhů v obla
 sti medicíny a zdravotnictví v Asii. Nadcházející ročník se bude to
 čit kolem tří ústředních témat – inovativní péče\, inteligentn
 í zdravotnictví a hub pro zdravotnické potřeby – a představí nejno
 vější trendy a technologie v oboru. Veletrh je koncipován tak\, aby p
 řilákal velkoobchodníky\, distributory\, agenty\, profesní sdružení 
 a lékařské společnosti z Tchaj-wanu i ze zahraničí a vytvořil dynam
 ickou platformu pro přeshraniční výměnu a spolupráci.Aktuální info
 rmace naleznete na oficiálních webových stránkách.Na podporu účasti
  na tomto veletrhu nabízíme následující pobídkové balíčky. Upozor
 ňujeme\, že nabídky platí do vyčerpání finančního rozpočtu a bal
 íčky jsou poskytovány podle pořadí přijetí přihlášky. V rámci p
 obídkových balíčků si můžete zvolit pouze jednu možnost.Pro regist
 raci a podání pobídkové přihlášky vyplňte prosím přiložený for
 mulář "company profile" a zašlete jej na emailovou adresu czech@sa.moea
 .gov.tw nebo cztwec01@sa.moea.gov.tw.Pro další informace se obraťte na 
 následující kontakt:Mgr. Michaela OrságováEkonomické odděleníTchaj
 pejská hospodářská a kulturní kancelář v PrazeTel.: (+420) 234 722 
 021\n
URL:https://www.spcr.cz/mezinarodni-veletrh-medical-taiwan-2026
DTSTART:20260625T080000
DTEND:20260627T200000
LOCATION:Taipei Nangang Exhibition Center
END:VEVENT
END:VCALENDAR
