BEGIN:VCALENDAR
PRODID:-//eluceo/ical//2.0/EN
VERSION:2.0
CALSCALE:GREGORIAN
BEGIN:VEVENT
UID:a411d5cd821b97a9128dda04b90aed44
DTSTAMP:20260423T163428Z
SUMMARY:REGISTRACE! Webinář: Global Gateway Early-Stage Investment Mechan
 ism
DESCRIPTION:Název akce: REGISTRACE! Webinář: Global Gateway Early-Stage 
 Investment Mechanism\nURL: https://www.spcr.cz/registrace-webinar-global-g
 ateway-early-stage-investment-mechanism\nPopis: \n\nVyužijte možnost sez
 námit se s novým nástrojem Early-Stage Investment Mechanism (ESIM) inic
 iativy Global Gateway. Do 16. ledna 12:00 se můžete se zdarma přihlási
 t na informační webinář Evropské komise\, který proběhne v úterý 
 20. ledna od 11:00 do 13:00.Registrace k webinářiEarly-Stage Investment 
 Mechanism (ESIM) je určen pro podporu projektů ve velmi rané fázi př
 ípravy. Jeho cílem je pomoci firmám připravit investičně atraktivní
  projekty prostřednictvím technické asistence – tedy financování st
 udií proveditelnosti\, posouzení rizik\, přípravy finanční struktury
  a celkové „bankovatelnosti“.Co ESIM nabízí? Podporu ve výši 0\,
 5–2 mil. EUR na přípravné práce.Na jaké sektory je ESIM zaměřen?
  Doprava\, energetika\, digitalizace\, umělá inteligence\, urbanistick
 ý rozvoj.S jakými cíli EU musí být zamýšlené projekty v souladu? 
 Projekty musí přispívat k udržitelnému rozvoji\, zelené transformaci
 \, regionální integraci\, vytváření pracovních míst\, snižování 
 chudoby a nerovností\, genderové rovnosti\, a dalším rozvojovým cíl
 ům. Musí být atraktivní pro následné financování z evropských i s
 oukromých zdrojů (EFSD+\, EIB\, rozvojové finanční instituce\, invest
 oři).Oprávnění žadatelé:startupy\, MSP i velké firmy z EU\,konsorci
 a\, joint ventures (vč. partnerství s veřejnými promotéry)\,státem v
 lastněné / navázané podniky\;u AI i výzkumné instituce a univerzity.
 Vyloučeny jsou státní orgány\, regionální a místní samospráva a m
 ezinárodní organizace.Deadline pro podání návrhů: Nejbližší uzá
 věrka pro podání návrhů bude 16. března 2026 do 12:00 (bruselského 
 času). Další kola výzev mohou následovat.Více informací naleznete n
 a stránce Evropské komise. \n
URL:https://www.spcr.cz/registrace-webinar-global-gateway-early-stage-inves
 tment-mechanism
DTSTART:20260116T120000
DTEND:20260116T120100
LOCATION:
END:VEVENT
END:VCALENDAR
