BEGIN:VCALENDAR
PRODID:-//eluceo/ical//2.0/EN
VERSION:2.0
CALSCALE:GREGORIAN
BEGIN:VEVENT
UID:00828eb9dd611f241fa63d00f91d3920
DTSTAMP:20260422T160137Z
SUMMARY:World Health Expo Japan 2026
DESCRIPTION:Název akce: World Health Expo Japan 2026\nURL: https://www.spc
 r.cz/world-health-expo-japan-2026\nPopis: \nDovolujeme si Vás pozvat k ú
 časti na veletrhu World Health Expo Japan\, který se uskuteční v Ósac
 e ve dnech 2.–4. července 2026. Akce patří mezi nejvýznamnější me
 zinárodní platformy v Japonsku zaměřené na zdravotnictví\, life scie
 nces\, zdravotnické technologie a inovace v oblasti péče o zdraví.\nČ
 eské firmy mají jedinečnou možnost přihlásit se do 24. března 2026 
 ke společné podnikatelské misi prostřednictvím programu EU Business H
 ub\, který podporuje vstup evropských firem na japonský trh. Na realiza
 ci mise se kromě EU Business Hub podílí také agentura JETRO (Japan Ext
 ernal Trade Organization).Společná mise nabídne firmám zejména: orga
 nizovanou účast na veletrhu World Health Expo Japan\,předem připraven
 ý business matching s japonskými partnery a potenciálními zákazníky\
 ,podporu při navazování obchodních kontaktů na místě\,odborné záz
 emí a asistenci během celé akce.Mise je určena především firmám p
 ůsobícím v oblasti zdravotnických technologií\, farmacie\, digitáln
 ího zdraví\, biotechnologií a dalších souvisejících oborů\, které
  mají zájem o rozvoj spolupráce s japonskými partnery.Více informací
  o akci naleznete na webových stránkách www.worldhealthexpo.com. V př
 ípadě Vašeho zájmu o účast nebo pro získání dalších informací 
 o přihlašovacím procesu prostřednictvím EU Business Hub kontaktujte p
 rosím kancelář JETRO Praha: Iveta Kučová Project CoordinatorTel. +4
 20 222 814 971Email: iveta_kucova@jetro.go.jp \n
URL:https://www.spcr.cz/world-health-expo-japan-2026
DTSTART:20260702T080000
DTEND:20260704T180000
LOCATION:Ósaka
END:VEVENT
END:VCALENDAR
