BEGIN:VCALENDAR
PRODID:-//eluceo/ical//2.0/EN
VERSION:2.0
CALSCALE:GREGORIAN
BEGIN:VEVENT
UID:609dbda6494d800cbc17b432533c376d
DTSTAMP:20260423T130016Z
SUMMARY:Akademie techniky a řemesel v Hradci Králové 2026
DESCRIPTION:Název akce: Akademie techniky a řemesel v Hradci Králové 20
 26\nURL: https://www.spcr.cz/akademie-techniky-remesel-v-hradci-kralove-20
 26\nPopis: \nSave the date. Podrobnosti připravujeme. Registrace budou za
 hájeny na jaře 2026. \nAkademie se uskuteční na adrese:Střední odbo
 rná škola a Střední odborné učiliště\, Hradec Králové\, Vocelova
  1338Vocelova 1338500 02 Hradec KrálovéAkce je určena pro základní š
 koly i veřejnost a je zdarma. I letos pro vás chystáme dvě soutěže -
  jednu zaměřenou na práci se dřevem\, druhou v elektronických zapoje
 ních. Soutěže budou pro předem registrované dvojice žáků z 6. až 
 8. tříd\, registrace budou zahájeny na jaře 2026. Podívejte se\, jak
  probíhal první ročník Akademie techniky a řemesel.Více info o Akade
 mie techniky a řemesel.\n
URL:https://www.spcr.cz/akademie-techniky-remesel-v-hradci-kralove-2026
DTSTART:20260612T090000
DTEND:20260612T150000
LOCATION:Vocelova 1338\, Hradec Králové
END:VEVENT
END:VCALENDAR
