BEGIN:VCALENDAR
PRODID:-//eluceo/ical//2.0/EN
VERSION:2.0
CALSCALE:GREGORIAN
BEGIN:VEVENT
UID:97b8a224ccf8e4b447bfa021f1c52642
DTSTAMP:20260423T142846Z
SUMMARY:Konstruktérská akademie Postřelmov 2026
DESCRIPTION:Název akce: Konstruktérská akademie Postřelmov 2026\nURL: h
 ttps://www.spcr.cz/konstrukterska-akademie-postrelmov-2026\nPopis: \n\nKon
 struktérká akademie Postřelmov Termín: 3. a 4. června 2026 Čas: st
 ředa od 9:00 - 17:00\, čtvrtek 9:00 - 14:00Místo: Sportovní hala Post
 řelmov\, ulice Komenského 230\, 789 69 Co je cílem akce? Akce je zam
 ěřena na polytechnické vzdělávání žáků základních škol z reg
 ionu Šumperska\, Zábřežska a Mohelnicka. Svým zaměřením významn
 ě přispívá k rozvoji spolupráce v oblasti zážitkového kariérovéh
 o poradenství.Pro koho je akce určena?Akce cílí především na žáky
 \, rodiče\, kariérní poradce a pedagogy a jejím účelem je populariza
 ce technických\, řemeslných a přírodovědných oborů\, a to prostře
 dnictvím bohatého interaktivního programu a dvou soutěží - robotick
 é a řemeslné (práce se dřevem). Kdo obstarává stanoviště?O bohat
 ý program se starají střední školy\, firmy\, univerzita\, výrobci te
 chnických hraček a různí kutilové\, modeláři a nadšenci do technic
 kých\, řemeslných a přírodovědných oborů. Aktuální informace sl
 edujete na webu akce: Konstruktérská akademie 2025 Kontakt:Richard Koub
 ekRegionální manažer pro Olomoucký a Pardubický krajSVAZ PRŮMYSLU A 
 DOPRAVY ČESKÉ REPUBLIKYTř. Kosmonautů 8 | 779 00 OlomoucGSM: 733 643 
 511rkoubek@spcr.cz \n
URL:https://www.spcr.cz/konstrukterska-akademie-postrelmov-2026
DTSTART:20260603T090000
DTEND:20260604T150000
LOCATION:Sportovní hala Postřelmov\, ulice Komenského 230\, 789 69
END:VEVENT
END:VCALENDAR
