BEGIN:VCALENDAR
PRODID:-//eluceo/ical//2.0/EN
VERSION:2.0
CALSCALE:GREGORIAN
BEGIN:VEVENT
UID:e94891582768a78448f7e5d39c96d3fd
DTSTAMP:20260423T044003Z
SUMMARY:Rizika skrytých úprav a selhání řízení v průmyslu
DESCRIPTION:Název akce: Rizika skrytých úprav a selhání řízení v pr
 ůmyslu\nURL: https://www.spcr.cz/rizika-skrytych-uprav-selhani-rizeni-v-p
 rumyslu\nPopis: \n\nDigitální zařízení\, která dnes řídí průmysl
 \, energetiku i budovy\, často nejsou plně pod kontrolou provozovatele 
 – spoléhají na vzdálené cloudy\, obsahují skryté nebo nezdokumento
 vané funkce a zranitelnosti přímo v samotném řízení. Tyto skutečno
 sti ukazují\, že tradiční přístupy ke kybernetické ochraně nemusí
  být v kritických aplikacích dostačující.Konference otevře odbornou
  debatu zejména orizicích cloud-dependent a „black-box“ zařízení 
 v průmyslu\, energetice a budovách\,současných technických možnostec
 h detekce a omezení těchto rizik\,možnostech nezávislé\, distribuovan
 é a auditovatelné kontroly řízení v souladu s požadavky směrnice NI
 S2.Program10:00 – 10:15    Zahájení akce10:15 – 11:00    Pol
 igon OT\, aktuální hrozby v oblasti operačních technologií a kritick
 é infrastrukturyZástupce NUKIB (Národní úřad pro kybernetickou a inf
 ormační bezpečnost)11:00 – 11:45    Firmware jako skrytá vrstva 
 řízení: od flexibility k systémovému rizikuAndrej Pastorek\, PATRIC -
  mezinárodní centrum výzkumu pokročilých technologií a inovací11:45
  – 12:05    Networking & občerstvení12:05 – 13:00    FASBA: 
 fail-safe řízení a princip „airback“ jako poslední pojistka proti 
 selhání a manipulaciOtto Havle\, ELA Blockchain Services a.s.13:00 – 1
 3:35    Agentní systémy pro plánování a řízení výrobních pro
 cesů napříč platformamiPavel Hradecký\, RICAIP Testbed Prague\, CIIRC
  ČVUT13:35 – 14:10   Moderní řízení kybernetické bezpečnosti v
 ýrobních podnikůIlja David\, OT/IT Security Architekt\, IRON OT14:10 
 – 15:00    Závěrečné shrnutí a ukončení akce Účast je zdar
 ma\, registrujte se prosím zde. \n
URL:https://www.spcr.cz/rizika-skrytych-uprav-selhani-rizeni-v-prumyslu
DTSTART:20260212T100000
DTEND:20260212T150000
LOCATION:Svaz průmyslu a dopravy ČR
END:VEVENT
END:VCALENDAR
