BEGIN:VCALENDAR
PRODID:-//eluceo/ical//2.0/EN
VERSION:2.0
CALSCALE:GREGORIAN
BEGIN:VEVENT
UID:7a7b764e57003510dbbdfba17c6e1945
DTSTAMP:20260423T125316Z
SUMMARY:TAIPEI CYCLE 2026
DESCRIPTION:Název akce: TAIPEI CYCLE 2026\nURL: https://www.spcr.cz/taipei
 -cycle-2026\nPopis: \n\nDovolujeme si Vás pozvat na mezinárodní veletrh
  pořádaný Tchajpejskou hospodářskou a kulturní kanceláří v Praze\
 , TAPEI CYCLE 2026\, který se bude konat v Taipei Nangang Exhibition Cent
 er od 25. března do 28. března 2026.Veletrh Taipei Cycle nabízí širok
 ou škálu produktů a služeb\, včetně nejnovějších inovací v oblas
 ti cyklistických komponentů\, příslušenství\, elektrokol a sportovn
 ích kol\, stejně jako souvisejícího vybavení a dílů. Zvláštní d
 ůraz je kladen na prezentaci inovací a technologického vývoje\, díky 
 čemuž je tento veletrh klíčovým ukazatelem trendů v oboru.Aktuální
  informace naleznete na oficiálních webových stránkách.Na podporu ú
 časti na tomto veletrhu nabízíme následující pobídkové balíčky. 
 Upozorňujeme\, že nabídky platí do vyčerpání finančního rozpočtu
  a balíčky jsou poskytovány podle pořadí přijetí přihlášky.Pro r
 egistraci a podání pobídkové přihlášky vyplňte prosím přiložen
 ý formulář "company profile" a zašlete jej na emailovou adresu czech@s
 a.moea.gov.tw nebo cztwec01@sa.moea.gov.tw.Pro další informace se obrať
 te na následující kontakt:Mgr. Michaela OrságováEkonomické oddělen
 íTchajpejská hospodářská a kulturní kancelář v PrazeTel.: (+420) 2
 34 722 021\n
URL:https://www.spcr.cz/taipei-cycle-2026
DTSTART:20260325T080000
DTEND:20260328T200000
LOCATION:Taipei Nangang Exhibition Center
END:VEVENT
END:VCALENDAR
