BEGIN:VCALENDAR
PRODID:-//eluceo/ical//2.0/EN
VERSION:2.0
CALSCALE:GREGORIAN
BEGIN:VEVENT
UID:b929c6ba265039f8f368c99e9a8f1a79
DTSTAMP:20260423T145017Z
SUMMARY:WOOD TAIWAN 2026
DESCRIPTION:Název akce: WOOD TAIWAN 2026\nURL: https://www.spcr.cz/wood-ta
 iwan-2026\nPopis: \n\nDovolujeme si Vás pozvat na mezinárodní veletrh p
 ořádaný Tchajpejskou hospodářskou a kulturní kanceláří v Praze\, 
 TWOOD TAIWAN 2026 - Taiwan International Woodworking Industry & Furniture 
 Manufacturing Show\, který se uskuteční 23. – 26. dubna 2026 v Taipei
  Nangang Exhibition Center.S tématem „Craft Smart!“ letošní výstav
 a vyzdvihne chytré dřevozpracování a udržitelné řemeslo a představ
 í pokrok Tchaj-wanu v oblasti technologických inovací a zelené transfo
 rmace. Tato edice nabídne tematické zóny zahrnující chytrou výrobu a
  AI řešení\, výrobu nábytku a dřevěné konstrukce\, stroje a zaří
 zení\, kování\, příslušenství a deskové materiály a ruční nář
 adí a DIY.Aktuální informace naleznete na oficiálních webových strá
 nkách.Na podporu účasti na tomto veletrhu nabízíme následující pob
 ídkové balíčky. Upozorňujeme\, že nabídky platí do vyčerpání fi
 nančního rozpočtu a balíčky jsou poskytovány podle pořadí přijet
 í přihlášky. Z balíčku pobídek si můžete vybrat pouze jednu možn
 ost.Pro registraci a podání pobídkové přihlášky vyplňte prosím p
 řiložený formulář "company profile" a zašlete jej na emailovou adres
 u czech@sa.moea.gov.tw nebo cztwec01@sa.moea.gov.tw.Pro další informace 
 se obraťte na následující kontakt:Mgr. Michaela OrságováEkonomické 
 odděleníTchajpejská hospodářská a kulturní kancelář v PrazeTel.: 
 (+420) 234 722 021\n
URL:https://www.spcr.cz/wood-taiwan-2026
DTSTART:20260423T080000
DTEND:20260426T200000
LOCATION:Taipei Nangang Exhibition Center
END:VEVENT
END:VCALENDAR
