BEGIN:VCALENDAR
PRODID:-//eluceo/ical//2.0/EN
VERSION:2.0
CALSCALE:GREGORIAN
BEGIN:VEVENT
UID:b0589d96d0ac6a447117cb4581aa89b1
DTSTAMP:20260423T125335Z
SUMMARY:Designed Giftionery Taiwan 2026
DESCRIPTION:Název akce: Designed Giftionery Taiwan 2026\nURL: https://www.
 spcr.cz/designed-giftionery-taiwan-2026\nPopis: \n\nDovolujeme si Vás poz
 vat na mezinárodní veletrh pořádaný Tchajpejskou hospodářskou a kul
 turní kanceláří v Praze\, Designed Giftionery Taiwan 2026 (DG Taiwan 2
 026)\, který se bude konat v Taipei World Trade Center od 16. dubna do 19
 . dubna 2026.Výstava s tématem „Design Leads\, Smart Speaks“ bude za
 hrnovat tři základní prvky: design a novinky\, udržitelnost a intelige
 ntní přepravu. Další zóny představí kreativní dárky a papírensk
 é zboží\, bytové doplňky\, udržitelný design a balení a inteligent
 ní bydlení\, čímž poskytnou komplexní pohled na odvětví od designu
  a výroby až po balení.Aktuální informace naleznete na oficiálních 
 webových stránkách.Na podporu účasti na tomto veletrhu nabízíme ná
 sledující pobídkové balíčky. Upozorňujeme\, že nabídky platí do 
 vyčerpání finančního rozpočtu a balíčky jsou poskytovány podle po
 řadí přijetí přihlášky. Z balíčku pobídek si můžete vybrat pou
 ze jednu možnost.Pro registraci a podání pobídkové přihlášky vypl
 ňte prosím přiložený formulář "company profile" a zašlete jej na e
 mailovou adresu czech@sa.moea.gov.tw nebo cztwec01@sa.moea.gov.tw.Pro dal
 ší informace se obraťte na následující kontakt:Mgr. Michaela Orságo
 váEkonomické odděleníTchajpejská hospodářská a kulturní kancelá
 ř v PrazeTel.: (+420) 234 722 021\n
URL:https://www.spcr.cz/designed-giftionery-taiwan-2026
DTSTART:20260416T080000
DTEND:20260419T200000
LOCATION:Taipei World Trade Center
END:VEVENT
END:VCALENDAR
