BEGIN:VCALENDAR
PRODID:-//eluceo/ical//2.0/EN
VERSION:2.0
CALSCALE:GREGORIAN
BEGIN:VEVENT
UID:65b201f84494b6ccd06a398c3ba54393
DTSTAMP:20260423T173735Z
SUMMARY:ATLife Taiwan 2026 - Assistive Technology for Life
DESCRIPTION:Název akce: ATLife Taiwan 2026 - Assistive Technology for Life
 \nURL: https://www.spcr.cz/atlife-taiwan-2026-assistive-technology-life\nP
 opis: \n\nDovolujeme si Vás pozvat na mezinárodní veletrh pořádaný T
 chajpejskou hospodářskou a kulturní kanceláří v Praze\, ATLife Taiwa
 n 2026 – Assistive Technology for Life\, který se bude konat ve dnech 1
 4.–17. května 2026 v Taipei Nangang Exhibition Center\, Hall 1\, 1F.ATL
 ife je mezinárodní odborná výstava zaměřená na asistivní zařízen
 í a dlouhodobou péči. Prezentuje špičkové taiwanské technologie a p
 ropojuje výrobce\, dodavatele\, značky\, koncové uživatele i veřejný
  sektor s cílem podpořit spolupráci a rozvoj v oblasti asistivních tec
 hnologií.Aktuální informace naleznete na oficiálních webových strán
 kách.Pro dotazy týkající se veletrhu nebo registraci vystavovatelů ko
 ntaktujte prosím:Yu Yuxuan 余雨軒Zástupce generálního tajemníkatel
 .: +886 921 644 958e-mail: atlife.taiwan222@gmail.comDalší informace nal
 eznete v přiložených materiálech.\n
URL:https://www.spcr.cz/atlife-taiwan-2026-assistive-technology-life
DTSTART:20260514T080000
DTEND:20260517T200000
LOCATION:Taipei Nangang Exhibition Center
END:VEVENT
END:VCALENDAR
