BEGIN:VCALENDAR
PRODID:-//eluceo/ical//2.0/EN
VERSION:2.0
CALSCALE:GREGORIAN
BEGIN:VEVENT
UID:b85748864050653dd69b282cbcd7caa0
DTSTAMP:20260423T150357Z
SUMMARY:2026 Taichung International Tea\, Coffee and Bakery Show
DESCRIPTION:Název akce: 2026 Taichung International Tea\, Coffee and Baker
 y Show\nURL: https://www.spcr.cz/2026-taichung-international-tea-coffee-an
 d-bakery-show\nPopis: \n\nDovolujeme si Vás pozvat na mezinárodní velet
 rh pořádaný Tchajpejskou hospodářskou a kulturní kanceláří v Praz
 e\, 2025 Taichung International Tea\, Coffee and Bakery Show\, která se u
 skuteční od 10. do 13. července 2026 v Taichung International Exhibitio
 n Center.Veletrh se zaměřuje na:čajové produkty a související vybave
 níkávové produkty a související vybavenípekařské suroviny\, produk
 ty a technologiecateringové vybavenísortiment potravin a nápojůNa podp
 oru účasti na tomto veletrhu nabízíme následující pobídkové balí
 čky. Upozorňujeme\, že nabídky platí do vyčerpání finančního roz
 počtu a balíčky jsou poskytovány podle pořadí přijetí přihlášky
 . Z balíčku pobídek si můžete vybrat pouze jednu možnost.Aktuální 
 informace naleznete na oficiálních webových stránkách.Pro registraci 
 a podání pobídkové přihlášky vyplňte prosím přiložený formulá
 ř "company profile" a zašlete jej na emailovou adresu czech@sa.moea.gov.
 tw nebo cztwec01@sa.moea.gov.tw.Pro další informace se obraťte na násl
 edující kontakt:Mgr. Michaela OrságováEkonomické odděleníTchajpejsk
 á hospodářská a kulturní kancelář v PrazeTel.: (+420) 234 722 021\n
URL:https://www.spcr.cz/2026-taichung-international-tea-coffee-and-bakery-s
 how
DTSTART:20260710T080000
DTEND:20260713T200000
LOCATION:Taichung International Exhibition Center
END:VEVENT
END:VCALENDAR
