BEGIN:VCALENDAR
PRODID:-//eluceo/ical//2.0/EN
VERSION:2.0
CALSCALE:GREGORIAN
BEGIN:VEVENT
UID:5403b061e0ed813b927277e105a10ac5
DTSTAMP:20260423T130007Z
SUMMARY:Česko-srbská hospodářská spolupráce a EXPO 2027
DESCRIPTION:Název akce: Česko-srbská hospodářská spolupráce a EXPO 2
 027\nURL: https://www.spcr.cz/cesko-srbska-hospodarska-spoluprace-expo-202
 7\nPopis: \n\nVe čtvrtek 5. února 2026 se v prostorách Ministerstva pr
 ůmyslu a obchodu ČR (Politických vězňů 20\, Praha) uskuteční zased
 ání Společného výboru pro hospodářskou spolupráci mezi Českou rep
 ublikou a Srbskem.Setkání je zaměřeno na projednání klíčových ot
 ázek ekonomické spolupráce mezi oběma zeměmi a zároveň nabízí př
 íležitost pro české firmy představit své podnikatelské záměry v S
 rbsku a získat podporu na mezistátní úrovni.Firmy se zájmem o tuto fo
 rmu podpory se mohou obrátit na zástupce Ministerstva průmyslu a obchod
 u:👉 lucie.kuglerova@mpo.gov.cz\; jakub.smejkal@mpo.gov.cz  Součást
 í programu bude také seminář k EXPO 2027 Bělehrad\, na kterém vystou
 pí zástupce srbského pořadatele EXPO. Seminář nabídne praktické in
 formace o charakteru akce\, doprovodných aktivitách i možnostech zapoje
 ní českých firem. Následovat bude prostor pro networking.Z důvodu ome
 zené kapacity je nutná registrace předem. Účastníkům bude účast p
 otvrzena dle pořadí přihlášek na uvedený kontaktní e-mail.👉 Odka
 z na registraci zde \n
URL:https://www.spcr.cz/cesko-srbska-hospodarska-spoluprace-expo-2027
DTSTART:20260205T100000
DTEND:20260205T150000
LOCATION:
END:VEVENT
END:VCALENDAR
