BEGIN:VCALENDAR
PRODID:-//eluceo/ical//2.0/EN
VERSION:2.0
CALSCALE:GREGORIAN
BEGIN:VEVENT
UID:6a5363df8b3429fe77a4516a7e7f9950
DTSTAMP:20260423T163435Z
SUMMARY:EU–Jordan Business Roundtable
DESCRIPTION:Název akce: EU–Jordan Business Roundtable\nURL: https://www.
 spcr.cz/eu-jordan-business-roundtable\nPopis: \n\nEvropská komise ve spol
 upráci s velvyslanectvím Jordánska při EU zve evropské firmy a invest
 ory k účasti na High-Level EU–Jordan Business Roundtable\, které se u
 skuteční 26. ledna od 13:30 v budově Berlaymont v Bruselu.Cílem jedná
 ní je zapojit evropský soukromý sektor a finanční instituce do Strate
 gického partnerství EU–Jordánsko\, jehož ambicí je mobilizovat až 
 1\,4 miliardy EUR dodatečných investic prostřednictvím nástrojů EU. 
 Setkání je zároveň přípravou na první EU–Jordan Investment Confer
 ence\, která proběhne v Jordánsku 21. dubna 2026.Pozvánka je určena z
 ejména podnikům a investorům působícím v oborech:vodohospodářství
 energetikadigitální technologiedoprava a logistikaprůmysl s vysokou př
 idanou hodnotouZájemci se mohou hlásit do 21. ledna zasláním jména ú
 častníka/ů na adresu: MENA-B1@ec.europa.euNásledně obdrží registra
 ční odkaz.\n
URL:https://www.spcr.cz/eu-jordan-business-roundtable
DTSTART:20260126T133000
DTEND:20260126T153000
LOCATION:
END:VEVENT
END:VCALENDAR
