BEGIN:VCALENDAR
PRODID:-//eluceo/ical//2.0/EN
VERSION:2.0
CALSCALE:GREGORIAN
BEGIN:VEVENT
UID:7b24e9baad4fc8ed808b9af8ccd0b73b
DTSTAMP:20260424T043608Z
SUMMARY:Webinář: Jak prodávat na JD Worldwide do Číny
DESCRIPTION:Název akce: Webinář: Jak prodávat na JD Worldwide do Číny
 \nURL: https://www.spcr.cz/webinar-jak-prodavat-na-jd-worldwide-do-ciny\nP
 opis: \n\nEU SME Centre\, iniciativa Evropské unie na podporu malých a s
 tředních podniků (SME) při vstupu na čínský trh\, zve evropské SME
  k účasti na webináři o možnostech prodeje do Číny prostřednictví
 m cross-border e-commerce platformy JD Worldwide. Účastníci získají p
 raktický přehled o tom\, jak platforma funguje\, pro jaké produkty je v
 hodná\, jak vypadá vstupní proces a jaké jsou klíčové obchodní a l
 ogistické požadavky pro evropské exportéry.Webinář je zdarma.Více i
 nformací a registrace zde:👉 https://www.eusmecentre.org.cn/events/the-
 e-commerce-series-selling-on-jd-worldwide/ \n
URL:https://www.spcr.cz/webinar-jak-prodavat-na-jd-worldwide-do-ciny
DTSTART:20260212T090000
DTEND:20260212T101500
LOCATION:
END:VEVENT
END:VCALENDAR
