BEGIN:VCALENDAR
PRODID:-//eluceo/ical//2.0/EN
VERSION:2.0
CALSCALE:GREGORIAN
BEGIN:VEVENT
UID:eba7cd7f3825c7f04fceb7aada95e956
DTSTAMP:20260422T223655Z
SUMMARY:Mise EU SME do Číny: Hainan & Shenzhen
DESCRIPTION:Název akce: Mise EU SME do Číny: Hainan & Shenzhen\nURL: htt
 ps://www.spcr.cz/mise-eu-sme-do-ciny-hainan-shenzhen\nPopis: \n\nEU SME Ce
 ntre\, iniciativa Evropské unie na podporu malých a středních podniků
  při vstupu na čínský trh\, zve evropské malé a střední firmy k ú
 časti na obchodní misi do Hainanu a Shenzhenu\, která se uskuteční 13
 .–18. dubna 2026. Mise je zaměřena na firmy ze sektorů spotřebního 
 zboží a zahrnuje účast na China International Consumer Products Expo (
 Hainan Expo) a následné B2B aktivity v Shenzhenu.Program nabízí:B2B se
 tkání s čínskými partnery a distributorynávštěvy podniků a networ
 kingmožnost prezentace na jednom z nejvýznamnějších čínských velet
 rhů spotřebního zbožíÚčast je otevřena podnikům z EU. Organizace 
 mise je pro účastníky bezplatná\, firmy si hradí cestovní a ubytovac
 í náklady. Uzávěrka přihlášek je 13. února 2026.Více informací a
  registrace:👉 https://www.eusmecentre.org.cn/events/2026-business-missi
 on-hainan-shenzhen/ \n
URL:https://www.spcr.cz/mise-eu-sme-do-ciny-hainan-shenzhen
DTSTART:20260413T080000
DTEND:20260418T180000
LOCATION:Hainan
END:VEVENT
END:VCALENDAR
