BEGIN:VCALENDAR
PRODID:-//eluceo/ical//2.0/EN
VERSION:2.0
CALSCALE:GREGORIAN
BEGIN:VEVENT
UID:ddcd66219aaf06bf2999de305d96b8c2
DTSTAMP:20260423T150357Z
SUMMARY:Technologie a investice v Japonsku
DESCRIPTION:Název akce: Technologie a investice v Japonsku\nURL: https://w
 ww.spcr.cz/technologie-investice-v-japonsku\nPopis: \nZveme Vás na podnik
 atelské setkání věnované technologické spolupráci a investičním p
 říležitostem v Japonsku\, které se uskuteční 31. března 2026 od 10:
 00 do 12:00 v prostorách Ministerstva průmyslu a obchodu\, Na Františku
  32\, Praha 1.\nAkce se zaměří na prohloubení česko-japonské spolupr
 áce v oblasti technologií a inovací a představí klíčové příleži
 tosti pro české firmy na japonském trhu.Japonsko patří mezi světové
  lídry v technologických inovacích a průmyslové digitalizaci. Trh se 
 dynamicky rozvíjí v oblasti elektromobility\, chytré infrastruktury\, p
 růmyslových řešení a moderních digitálních technologií\, což vyt
 váří prostor pro strategická partnerství\, společné projekty a inve
 stice.České firmy tak mají jedinečnou příležitost dozvědět se o m
 ožnostech v oblasti technologické spolupráce a investičních přílež
 itostech v Japonsku. V rámci fóra vystoupí velvyslanec Japonska v ČR\
 , J.E. Nagaoka Kansuke\, Radek Špicar\, viceprezident Svazu průmyslu a d
 opravy ČR\, zástupci Ministerstva průmyslu a obchodu\, CzechInvest\, JE
 TRO Praha a zástupci českých firem se zkušenostmi z japonského trhu.
  Součástí programu bude také networkingové setkání u lehkého obč
 erstvení.Setkání pořádá Svaz průmyslu a dopravy ČR ve spolupráci 
 s Velvyslanectvím Japonska v Praze\, Ministerstvem průmyslu a obchodu Č
 R\, CzechInvest a JETRO Praha.Program akce najdete v přiloženém letáku
 . Účast je zdarma\, je však podmíněna registrací na tomto odkazu nej
 později do 26. března 2026. \n
URL:https://www.spcr.cz/technologie-investice-v-japonsku
DTSTART:20260331T100000
DTEND:20260331T120000
LOCATION:Praha
END:VEVENT
END:VCALENDAR
