BEGIN:VCALENDAR
PRODID:-//eluceo/ical//2.0/EN
VERSION:2.0
CALSCALE:GREGORIAN
BEGIN:VEVENT
UID:5b9fbdc0b1366e3ab53514da22672835
DTSTAMP:20260419T130651Z
SUMMARY:HR Fresh Hradec Králové 
DESCRIPTION:Název akce: HR Fresh Hradec Králové \nURL: https://www.spcr.
 cz/hr-fresh-hradec-kralove\nPopis: \n\nSvaz průmyslu ve spolupráci s Hof
 mann Personal vás zve na další pokračování série inspirativních HR
  FRESH snídaní s občerstvením a fresh dávkou informací ze světa HR.
 Termín: 17. března od 9 do 12:30 hodin Kde: v Sále zastupitelstva na k
 rajském úřadě v Hradci Králové - Pivovarské nám. 1245 Na co se m
 ůžete těšit? Zaměříme se na klíčová témata\, která hýbou sou
 časným HR světem:  •    inovativní trendy v oblasti náboru\, v
 četně informace o otevření nové náborové kanceláře Hofmann Person
 al pod záštitou SP ČR na Filipínách v Manile•    trendy v digit
 alizaci interní komunikace\, •    vývoj a výzvy současného trh
 u práce\, •    změny v legislativě\, regionální specifika\, 
 •    zaměstnávání cizinců\, •    nové přístupy k upla
 tnění vojáků ve výslužbě a mnohem více.Registrace pro jednu osobu 
 z každé společnosti je zdarma. Každý další účastník zaplatí za 
 účast na akci 390 Kč bez DPH.Registrovat se\n
URL:https://www.spcr.cz/hr-fresh-hradec-kralove
DTSTART:20260317T090000
DTEND:20260317T123000
LOCATION:Pivovarské náměstí 1245\, 500 03 Hradec Králové\, sál Zastu
 pitelstva
END:VEVENT
END:VCALENDAR
