BEGIN:VCALENDAR
PRODID:-//eluceo/ical//2.0/EN
VERSION:2.0
CALSCALE:GREGORIAN
BEGIN:VEVENT
UID:a4f205b50586053df0bed8c9871bd3cb
DTSTAMP:20260423T150421Z
SUMMARY:HR Fresh - Pražský speciál 
DESCRIPTION:Název akce: HR Fresh - Pražský speciál \nURL: https://www.s
 pcr.cz/hr-fresh-prazsky-special\nPopis: \n\nSvaz průmyslu ve spolupráci 
 s Hofmann Personal vás zve na Pražský speciál série inspirativních H
 R FRESH snídaní s občerstvením a fresh dávkou informací ze světa HR
 . Opět se těšte na důležitá aktuální témata a speciální hosty 
 k tomu.Termín: 25.03.2026\, 10:00–15:30Místo: AMBIS vysoká škola\, L
 indnerova 575/1\, 180 00 Praha 8-LibeňCena: zdarma 1 osoba/společnost\, 
 každá další 390 Kč bez DPHHosté:Bohdan Wojnar\, viceprezident Svazu 
 průmyslupředstaví nově otevřenou kancelář Hofmann Personal na Filip
 ínách pod záštitou SP ČRSimona Babčáková\, průvodkyně komunikac
 í a známá česká herečkaprozradí\, jak zvládat změny v současné 
 turbulentní doběBlanka Šefránková\, ředitelka sekce zaměstnavatelsk
 é Svazu průmyslupřiblíží téma\, které vyvolává velké diskuze i 
 obavy - Jednotné měsíční hlášení zaměstnavatelů (JMHZ)Registrujt
 e se zdeV případě dotazů prosím kontaktujte Terezu Palečkovou: Terez
 a.Paleckova@hofmann-personal.cz\, +420 725 988 705.  \n
URL:https://www.spcr.cz/hr-fresh-prazsky-special
DTSTART:20260325T100000
DTEND:20260325T153000
LOCATION:Ambis\, Lindnerova 575/1\, Praha-Libeň
END:VEVENT
END:VCALENDAR
