BEGIN:VCALENDAR
PRODID:-//eluceo/ical//2.0/EN
VERSION:2.0
CALSCALE:GREGORIAN
BEGIN:VEVENT
UID:56624d4490a47e2fed9d67a38cd27b1f
DTSTAMP:20260421T145003Z
SUMMARY:HR Fresh Plzeň 
DESCRIPTION:Název akce: HR Fresh Plzeň \nURL: https://www.spcr.cz/hr-fres
 h-plzen\nPopis: \n\nSvaz průmyslu ve spolupráci s Hofmann Personal vás 
 zve na další pokračování série inspirativních HR FRESH snídaní s 
 občerstvením a fresh dávkou informací ze světa HR.Registrujte se zde
  \n
URL:https://www.spcr.cz/hr-fresh-plzen
DTSTART:20260318T090000
DTEND:20260318T123000
LOCATION:Vědeckotechnický park Plzeň\, Teslova 3
END:VEVENT
END:VCALENDAR
