BEGIN:VCALENDAR
PRODID:-//eluceo/ical//2.0/EN
VERSION:2.0
CALSCALE:GREGORIAN
BEGIN:VEVENT
UID:522d1f3c93cb6716f3748546defcf5fb
DTSTAMP:20260421T104517Z
SUMMARY:HR Fresh České Budějovice
DESCRIPTION:Název akce: HR Fresh České Budějovice\nURL: https://www.spc
 r.cz/hr-fresh-ceske-budejovice\nPopis: \n\nSvaz průmyslu ve spolupráci s
  Hofmann Personal vás zve na další pokračování série inspirativníc
 h HR FRESH snídaní s občerstvením a fresh dávkou informací ze světa
  HR.Registrujte se zde\n
URL:https://www.spcr.cz/hr-fresh-ceske-budejovice
DTSTART:20260319T090000
DTEND:20260319T123000
LOCATION:Jihočeský vědeckotechnický park\, Lipová 1789/9\, České Bud
 ějovice
END:VEVENT
END:VCALENDAR
