BEGIN:VCALENDAR
PRODID:-//eluceo/ical//2.0/EN
VERSION:2.0
CALSCALE:GREGORIAN
BEGIN:VEVENT
UID:3c8bc2d9c138e5d2b5a0f8b6a487c112
DTSTAMP:20260422T105416Z
SUMMARY:HR Fresh Sokolov
DESCRIPTION:Název akce: HR Fresh Sokolov\nURL: https://www.spcr.cz/hr-fres
 h-sokolov\nPopis: \n\nNenechte si ujít pokračování série oblíbených
  snídaňových setkání HR Fresh. Přijďte si vychutnat kávu\, chutnou
  snídani a porci těch nejčerstvějších informací ze světa HR. Prob
 ereme spolu:inovativní trendy v oblasti náborutrendy v digitalizaci inte
 rní komunikacevývoj a výzvy současného trhu prácezměny v legislativ
 ě\, regionální specifikazaměstnávání cizincůnové přístupy k upl
 atnění vojáků ve výslužbě a mnohem víceTématy vás provedou Eva V
 yskočilová a Denisa Divišová z Hofmann Personal. Dále pak odborníci 
 na pracovní právo ze společnosti BOROVEC LEGAL a experti na interní fi
 remní komunikaci ze společnosti Plusco. V neposlední řadě vás přiv
 ítá podplukovnice Markéta Kaštánková — ředitelka Agentury pro pod
 poru válečných veteránů Ministerstva obrany.Registrujte se zdeRegistr
 ace pro jednu osobu ze společnosti je zdarma. Každá další osoba z dan
 é společnosti platí za účast na akci 390 Kč bez DPH.Pokud máte jak
 ékoliv dotazy\, napište nám na našich sociálních sítí nebo kontakt
 ujte kolegyni Terezu Palečkovou: Tereza.Paleckova@hofmann-personal.cz\, +
 420 725 988 705.\n
URL:https://www.spcr.cz/hr-fresh-sokolov
DTSTART:20260324T090000
DTEND:20260324T123000
LOCATION:Hotel Marshall Sokolov\, Ke Golfu 445\, Dolní Rychnov
END:VEVENT
END:VCALENDAR
