BEGIN:VCALENDAR
PRODID:-//eluceo/ical//2.0/EN
VERSION:2.0
CALSCALE:GREGORIAN
BEGIN:VEVENT
UID:f1debaaf8e03f7dae207e249e35ca7ea
DTSTAMP:20260421T115828Z
SUMMARY:Business Speed Dating - Karlovarsko
DESCRIPTION:Název akce: Business Speed Dating - Karlovarsko\nURL: https://
 www.spcr.cz/business-speed-dating-karlovarsko\nPopis: \n\nZveme vás na od
 borné setkání zaměřené na facility management\, energetiku a efektiv
 ní provoz nemovitostí\, jehož cílem je propojit firmy\, provozovatele 
 objektů\, města a investory\, kteří hledají konkrétní řešení pro
  správu a rozvoj svých budov\, provozů a firemních areálů. Akce pro
 pojí poskytovatele technických a facility služeb s majiteli a správci 
 nemovitostí\, kteří řeší každodenní provoz\, úspory energií\, be
 zpečnost\, údržbu i modernizaci objektů. Setkání proběhne formou 
 řízeného business speed datingu doplněného o krátké prezentace vybr
 aných firem. Účastníci získají prostor představit své služby\, sd
 ílet zkušenosti a navázat nové obchodní i projektové spolupráce.Pro
 gram:8:40–09:00 Registrace účastníků09:00–09:10 Úvod a předsta
 vení konceptu akce09:10–10:10 BLOK I – ÚSPORY\, ENERGIE A ÚDRŽBAp
 raktická řešení z oblasti facility managementu a energetiky10:10–11:
 10 SPEED DATING I.řízená setkání u stolků11:10–11:25 Coffee brea
 k11:25–12:15 BLOK II – PROVOZ\, DIGITALIZACE A BUDOUCNOST FM12:15–1
 3:15 SPEED DATING II.řízená setkání u stolků13:15 Závěrečný ne
 tworking a ukončení akcePodrobný program naleznete v sekci Ke stažení
  ⇣⇣⇣Registrujte se zdeTermín pro registrace je do 10. března 2026.
 Kapacita je omezená. Účast na akci je bezplatná. Občerstvení zajišt
 ěno.\n
URL:https://www.spcr.cz/business-speed-dating-karlovarsko
DTSTART:20260312T090000
DTEND:20260312T130000
LOCATION:Kulturní a kreativní centrum\, Dykova 19\, Stará Role\, Karlovy
  Vary
END:VEVENT
END:VCALENDAR
