BEGIN:VCALENDAR
PRODID:-//eluceo/ical//2.0/EN
VERSION:2.0
CALSCALE:GREGORIAN
BEGIN:VEVENT
UID:fbaef9d6e0f8e64cb383f053c372c09f
DTSTAMP:20260423T125357Z
SUMMARY:Access2Markets - Training Webinar
DESCRIPTION:Název akce: Access2Markets - Training Webinar\nURL: https://ww
 w.spcr.cz/access2markets-training-webinar\nPopis: \n\nThe European Commiss
 ion’s Directorate-General for Trade (DG TRADE) invites companies and tra
 de professionals to the next Access2Markets Live Training Seminar\, which 
 will take place online on 24 March 2026 from 14:30 to 17:00 (Brussels time
 ).The seminar will be held virtually via the Interactio platform.The train
 ing provides an in-depth overview of the Access2Markets platform and pract
 ical guidance on how to use its tools for import and export activities. Pa
 rticipants will receive live demonstrations and have the opportunity to as
 k questions directly to experts.The session will be conducted in English w
 ith interpretation available in: Croatian\, Greek\, Danish\, Italian\, Spa
 nishThe programme includes:A comprehensive introduction to the Access2Mark
 ets platformLive training on import and export sectionsOverview of the Sin
 gle Entry Point for trade barriersTraining on the Rules of Origin Self-Ass
 essment tool (ROSA)My Trade Assistant for ProcurementMyTradeAssistant for 
 Services and InvestmentTrade Defence Instruments (TDI) SME HelpdeskQ&A ses
 sion with expertsThe seminar follows the usual format and will run for app
 roximately two hours\, including time for discussion and expert interventi
 ons.The training is particularly relevant for:Exporters and importersTrade
  compliance specialistsSMEs active in international marketsCompanies seeki
 ng to better understand EU trade tools and market access conditionsMore in
 formation and registrationRegistration is open until 20 March 2026 at 12:0
 0 (Brussels time).Participation is free of charge. \n
URL:https://www.spcr.cz/access2markets-training-webinar
DTSTART:20260324T143000
DTEND:20260324T170000
LOCATION:
END:VEVENT
END:VCALENDAR
