BEGIN:VCALENDAR
PRODID:-//eluceo/ical//2.0/EN
VERSION:2.0
CALSCALE:GREGORIAN
BEGIN:VEVENT
UID:33c903dda52fd9fdc8401394c4d586ce
DTSTAMP:20260421T105746Z
SUMMARY:SETKÁNÍ ŠPIČEK ČESKÉHO BYZNYSU
DESCRIPTION:Název akce: SETKÁNÍ ŠPIČEK ČESKÉHO BYZNYSU\nURL: https:/
 /www.spcr.cz/setkani-spicek-ceskeho-byznysu\nPopis: \n\nTato registrace je
  určená výhradně hostům\, kteří obdrželi osobní pozvánku na jmé
 no. Účast na akci je bezplatná po předchozí registraci prostřednictv
 ím tohoto formuláře. Hostům\, kteří nebyli pozváni\, nebude umožn
 ěn vstup. Děkujeme za pochopení.Zásady zpracování osobních údajů 
 jsou dostupné zde.\n
URL:https://www.spcr.cz/setkani-spicek-ceskeho-byznysu
DTSTART:20260513T180000
DTEND:20260513T230000
LOCATION:Občanská plovárna (U Plovárny 1\, Praha 1)
END:VEVENT
END:VCALENDAR
