BEGIN:VCALENDAR
PRODID:-//eluceo/ical//2.0/EN
VERSION:2.0
CALSCALE:GREGORIAN
BEGIN:VEVENT
UID:fc9e37afe06d9c41882dc7ab2da16790
DTSTAMP:20260423T162941Z
SUMMARY:Salon Interprofessionnel de l’Aquaculture du Cameroun (SIAC 2026)
DESCRIPTION:Název akce: Salon Interprofessionnel de l’Aquaculture du Cam
 eroun (SIAC 2026)\nURL: https://www.spcr.cz/salon-interprofessionnel-de-la
 quaculture-du-cameroun-siac-2026\nPopis: \n\nZastupitelský úřad České
  republiky v Abuji si vás dovoluje informovat o možnosti účasti česk
 ých firem na 2. ročníku odborného veletrhu Salon Interprofessionnel de
  l’Aquaculture du Cameroun (SIAC 2026)\, který se uskuteční ve dnech 
 1. – 6. června 2026 v Yaoundé (Palais des Sports)\, Kamerun.Akce je za
 měřena na sektor akvakultury a související technologie (chov ryb\, krm
 iva\, zpracování\, vodní hospodářství\, inovace). Součástí progra
 mu jsou odborné konference\, tematické workshopy\, B2B jednání a výst
 avní část. Veletrh byl doporučen kamerunskou pobočkou české společ
 nosti NIREX jako relevantní platforma pro vstup na místní trh.Organizá
 tor aktuálně zveřejňuje informace a novinky k veletrhu prostřednictv
 ím svého Facebookového profilu.V případě zájmu o účast či bliž
 ší informace se obraťte na ZÚ Abuja\, kde vám poskytnou základní ko
 nzultace k místním podmínkám\, logistice a obchodním zvyklostem.Marie
  NwanyanwuDruhá velvyslanecká tajemnicemarie.nwanyanwu@mzv.gov.cz\n
URL:https://www.spcr.cz/salon-interprofessionnel-de-laquaculture-du-camerou
 n-siac-2026
DTSTART:20260601T080000
DTEND:20260606T220000
LOCATION:Yaoundé (Palais des Sports)\, Kamerun
END:VEVENT
END:VCALENDAR
