BEGIN:VCALENDAR
PRODID:-//eluceo/ical//2.0/EN
VERSION:2.0
CALSCALE:GREGORIAN
BEGIN:VEVENT
UID:6e5be2cd57ca87a2f38ad7f76be01678
DTSTAMP:20260421T170241Z
SUMMARY:IBM TechDay 2026: Evoluce technologií v praxi
DESCRIPTION:Název akce: IBM TechDay 2026: Evoluce technologií v praxi\nUR
 L: https://www.spcr.cz/ibm-techday-2026-evoluce-technologii-v-praxi\nPopis
 : \n\nIBM vás zve na odbornou konferenci IBM TechDay 2026\, která se usk
 uteční 26. března 2026 ve Slovanském domě v Praze. Akce je zaměřena
  na praktické využití moderních technologií – od umělé inteligenc
 e přes kybernetickou bezpečnost až po quantum-safe technologie.Konferen
 ce nabídne prezentace postavené na reálných zkušenostech expertů a u
 káže konkrétní technologická řešení\, která již dnes firmy využ
 ívají v praxi. Účastníci získají přehled o aktuálních trendech a
  příležitost diskutovat s odborníky i dalšími zástupci firem.Speci
 álním hostem letošního ročníku bude Aleš Svoboda\, bojový pilot Ar
 mády ČR a astronaut ve výcviku Evropské kosmické agentury (ESA)\, kte
 rý se podělí o zkušenosti z oblasti elektronické bezpečnosti a kosmi
 ckých technologií.Program8:00–9:00 Registrace účastníků9:00 Zaháj
 ení konference9:15–10:15 Keynote: IBM a NASA – využití satelitníc
 h dat pro strategické poznatky10:15–10:35 Quantum safe & Little Moon C
 ity Prague11:00–11:20 Od vize k výsledkům: Zkušenosti AI týmu Arico
 my s transformací podniků pomocí watsonx11:20–11:40 Jak provozovat A
 I end-to-end pod plnou kontrolou s důrazem na bezpečnost11:40–12:00 Z
  pevného základu k raketovému růstu: jak AI agenti optimalizují každ
 odenní život v IT provozu12:00–12:30 Závěrečná diskuse12:30–14:0
 0 Networking a obědAkce je určena především IT specialistům\, techno
 logickým manažerům\, architektům řešení a dalším odborníkům\, k
 teří chtějí lépe porozumět tomu\, jak nové technologie využít v p
 odnikové praxi.Více informací a registraci najdete na webu akce:https:/
 /www.techday2026.cz \n
URL:https://www.spcr.cz/ibm-techday-2026-evoluce-technologii-v-praxi
DTSTART:20260326T080000
DTEND:20260326T140000
LOCATION:Slovanský dům\, Praha
END:VEVENT
END:VCALENDAR
