BEGIN:VCALENDAR
PRODID:-//eluceo/ical//2.0/EN
VERSION:2.0
CALSCALE:GREGORIAN
BEGIN:VEVENT
UID:497901c41a849587f1fc90b5daa41748
DTSTAMP:20260421T164744Z
SUMMARY:Explore Opportunities in Zhejiang
DESCRIPTION:Název akce: Explore Opportunities in Zhejiang\nURL: https://ww
 w.spcr.cz/explore-opportunities-zhejiang\nPopis: \n\nWe are pleased to ext
 end an exclusive invitation to Czech companies and business associations f
 or the Foreign Enterprises Zhejiang Tour\, an exceptional event designed t
 o foster international cooperation and explore investment opportunities in
  one of China's most economically vibrant provinces.The event will take pl
 ace from April 22 to April 24\, 2026\, and aims to provide foreign enterpr
 ises with an opportunity to learn more about Zhejiang’s business environ
 ment\, connect with local governments and companies\, and explore potentia
 l investment and cooperation opportunities.Zhejiang Province stands out fo
 r its dynamic economy\, high degree of openness\, and strong innovation ca
 pabilities. It is rapidly advancing as a hub for artificial intelligence i
 nnovation and a global advanced manufacturing base. This tour offers a uni
 que platform to connect with local governments and leading enterprises\, f
 acilitating new international partnerships and investment in key sectors.L
 ocation: Hangzhou\, Ningbo\, and Jinhua\, Zhejiang Province\, ChinaOrganiz
 ers: CITIC Group and Zhejiang Provincial Government (with the support of S
 P ČR)The tour is structured to provide comprehensive engagement and pract
 ical cooperation opportunities.Program HighlightsClosed-door Dialogues: En
 gage with key leaders from the Zhejiang Provincial Government and CITIC Gr
 oup to discuss investment cooperation and receive direct feedback.Welcome 
 Dinner: A reception hosted by high-level officials\, offering an excellent
  networking opportunity.Specialized City Visits: Explore key industries in
  Hangzhou\, Ningbo\, and Jinhua\, with tailored visits to local government
 s and enterprises.Theme Conference: Attend presentations by provincial and
  CITIC Group leaders\, foreign guests\, and enterprise representatives\, f
 ocusing on investment environment\, signing ceremonies\, and key announcem
 ents.Financial Forum: Participate in discussions on serving Zhejiang's ind
 ustrial development\, featuring policy briefings\, thematic presentations\
 , and industry-finance matchmaking.Registration InformationParticipation i
 n this significant event requires prior registration. To secure your plac
 e\, please register by March 16\, 2026\, by sending an e-mail to lanqian.g
 ao@citiceurope.com When registering\, please provide the following inform
 ation for each participant\, as detailed in the participation confirmation
  form:•    Company/Institution Name•    Country/Region•  
   Industry•    Brief Introduction of Company/Institution•   
  Current Business in Zhejiang (if any)•    Intended Cooperation Par
 tners in Zhejiang•    Cooperation Intention with Zhejiang•    
 Requiring Support from Zhejiang•    Contact Information of Guests:
 ◦    Name◦    Job Title◦    Phone Number◦    Email
 We encourage you to seize this opportunity to expand your business horizon
 s and forge valuable partnerships in China. We look forward to your partic
 ipation.For further information\, you may also contact Mikuláš Nozar (mn
 ozar@spcr.cz) \n
URL:https://www.spcr.cz/explore-opportunities-zhejiang
DTSTART:20260422T090000
DTEND:20260424T170000
LOCATION:Zhejiang Province
END:VEVENT
END:VCALENDAR
