BEGIN:VCALENDAR
PRODID:-//eluceo/ical//2.0/EN
VERSION:2.0
CALSCALE:GREGORIAN
BEGIN:VEVENT
UID:589e200349ca4cee871847f995fe0f89
DTSTAMP:20260423T113620Z
SUMMARY:NATO-Ukraine Defence Innovators Forum 2026
DESCRIPTION:Název akce: NATO-Ukraine Defence Innovators Forum 2026\nURL: h
 ttps://www.spcr.cz/nato-ukraine-defence-innovators-forum-2026\nPopis: \n\n
 NATO zve firmy\, investory\, zástupce vládních institucí i armády k 
 účasti na druhém ročníku NATO-Ukraine Defence Innovators Forum\, kter
 ý se uskuteční 1.–2. června 2026 ve Vilniusu v Litvě. Akci spoluorg
 anizují NATO Defence Industry\, Innovation & Armaments Division\, Ministe
 rstvo obrany Litvy a ukrajinská iniciativa Brave1.Fórum nabídne praktic
 ký prostor pro spolupráci mezi subjekty z NATO a Ukrajiny\, které se v
 ěnují zavádění technologií do praxe\, zejména v oblasti obranných 
 a bezpečnostních inovací. Účastníci získají příležitost naváza
 t kontakty\, sdílet zkušenosti a lépe se zorientovat v aktuálních mo
 žnostech spolupráce.Témata fóra:obchodní příležitosti a vládní p
 rogramy pro obranně-technologické firmy z NATO a Ukrajiny\,soutěž UNIT
 E – Brave NATO zaměřená na technologie proti bezpilotním prostředk
 ům a protivzdušnou obranu\,možnosti koprodukce mezi členskými státy 
 NATO a Ukrajinou\,pořizování a zavádění nových technologií\,invest
 ice do perspektivních start-upů v oblasti NATO-ukrajinských inovací\,p
 ravidla pro transfery a export obranných technologií na Ukrajinu\,národ
 ní modely podpory Ukrajiny.Proč se zúčastnit:setkáte se s firmami\, i
 nvestory\, vládními i vojenskými zástupci z celé alianční a ukrajin
 ské inovační komunity\,získáte přehled o aktuálních programech a o
 bchodních příležitostech\,dozvíte se více o spolupráci s ukrajinsk
 ým obranným ekosystémem\,navážete kontakty pro budoucí technologick
 á a obchodní partnerství.Organizační informace:registrace je již ote
 vřena\,kapacita akce je přibližně 400 účastníků\,za jednu organiza
 ci je možné přihlásit maximálně dvě osoby\,účast bude potvrzena p
 o ověření a schválení registrace pořadateli.Kompletní pozvánku nal
 eznete níže ⇣⇣⇣V případě dotazů je možné obrátit se na poř
 adatele na e-mailové adrese unite@hq.nato.intRegistrujte se zde \n
URL:https://www.spcr.cz/nato-ukraine-defence-innovators-forum-2026
DTSTART:20260601T090000
DTEND:20260602T170000
LOCATION:Vilnius\, Litva
END:VEVENT
END:VCALENDAR
