BEGIN:VCALENDAR
PRODID:-//eluceo/ical//2.0/EN
VERSION:2.0
CALSCALE:GREGORIAN
BEGIN:VEVENT
UID:b20fd99d6bcaa64fbf8e23875ca60d8f
DTSTAMP:20260423T150508Z
SUMMARY:Česko-rakouské ekonomické vazby – kulatý stůl
DESCRIPTION:Název akce: Česko-rakouské ekonomické vazby – kulatý st
 ůl\nURL: https://www.spcr.cz/cesko-rakouske-ekonomicke-vazby-kulaty-stul\
 nPopis: \n\nSvaz průmyslu a dopravy ČR vás zve ke kulatému stolu na t
 éma Česko-rakouské ekonomické vazby\, který se uskuteční 31. březn
 a 2026 od 14:00 do 17:00.  Geograficky blízké Rakousko je pro Česko p
 řirozeným partnerem – má podobnou průmyslovou strukturu a je význam
 ným odbytištěm pro český export. Setkání nabídne prostor pro sdíl
 ení zkušeností i diskusi o tom\, co obnáší podnikání a ekonomická
  spolupráce s rakouským trhem.Dozvíte se:jaká jsou specifika podnikán
 í v Rakousku – založení firmy\, jednání s úřady\, licenční proc
 esy či daňové prostředíkteré sektory jsou pro české firmy perspekt
 ivníjaké jsou aktuální česko-rakouské obchodní vztahy a trendy v ex
 portujaké nástroje podpory exportu mají české firmy k dispoziciProgra
 m» Úvodní slovo – Petr Teplý» Specifika podnikání v RakouskuJosef
  Havránek a Zuzana Nöstaller\, Česko-rakouská obchodní a průmyslová
  komora» Česko-rakouské obchodní vztahy a podpora exportuLukáš Marti
 n\, Svaz průmyslu a dopravy ČR» Coffee break» Moderovaná diskuse Pod
 robný program naleznete ke stažení níže ⇣⇣⇣RegistraceÚčast na
  akci je bezplatná. Přihlásit se můžete nejpozději do 25. března.V 
 případě dotazů se můžete obrátit na organizátora:Petr Teplýtel.: 
 603 459 521e-mail: pteply@spcr.czAkce se koná v rámci projektu Podpora n
 árodního\, odvětvového a regionálního sociálního dialogu v ČR.\n
URL:https://www.spcr.cz/cesko-rakouske-ekonomicke-vazby-kulaty-stul
DTSTART:20260331T133000
DTEND:20260331T170000
LOCATION:Svaz průmyslu a dopravy ČR
END:VEVENT
END:VCALENDAR
