BEGIN:VCALENDAR
PRODID:-//eluceo/ical//2.0/EN
VERSION:2.0
CALSCALE:GREGORIAN
BEGIN:VEVENT
UID:2f5eac2ecf53fde46e3c71ca46ce6f43
DTSTAMP:20260421T015435Z
SUMMARY:Promo Event for the China International Import Expo
DESCRIPTION:Název akce: Promo Event for the China International Import Exp
 o\nURL: https://www.spcr.cz/promo-event-china-international-import-expo\nP
 opis: \n\nThe Confederation of Industry of the Czech Republic invites Czec
 h companies to attend the Promotion Event for the 9th China International 
 Import Expo (CIIE)\, which will take place on April 15\, 2026\, from 10:00
  to 12:30 at the Ministry of Industry and Trade of the Czech Republic (Pol
 itických vězňů 20\, Prague 1).The event is jointly organized by the Ch
 ina International Import Expo Bureau\, the Chinese Embassy in the Czech Re
 public and the Ministry of Industry and Trade of the Czech Republic\, with
  the Confederation of Industry of the Czech Republic among the co-organize
 rs.The China International Import Expo\, to be held in Shanghai on Novembe
 r 5–10\, 2026\, is the world’s largest national-level exhibition dedic
 ated to imports. It provides a unique platform for companies to enter the 
 Chinese market\, present their products and services\, and connect with hi
 gh-quality buyers.What to expect:introduction to the China International I
 mport Expo and participation opportunitiessharing of practical experience 
 from exhibitorsinsights into export opportunities to Chinanetworking with 
 partners and institutions supporting Czech exportsbuffet lunch and informa
 l networkingThe event is intended for Czech companies interested in expand
 ing to the Chinese market and strengthening international business coopera
 tion.Why attend:gain practical information about entering the Chinese mark
 etexplore export and business opportunities in Chinameet key stakeholders 
 and partners supporting participation in CIIEbuild new business contactsRe
 gistration:Please confirm your participation by April 10\, 2026 by email a
 t cz@mofcom.gov.cn Include your name\, company\, position and industry.Pa
 rticipation is free of charge.\n
URL:https://www.spcr.cz/promo-event-china-international-import-expo
DTSTART:20260415T100000
DTEND:20260415T123000
LOCATION:Politických vězňů 20\, Prague 1
END:VEVENT
END:VCALENDAR
