BEGIN:VCALENDAR
PRODID:-//eluceo/ical//2.0/EN
VERSION:2.0
CALSCALE:GREGORIAN
BEGIN:VEVENT
UID:06b83de0a640540dfe7f02e20dc44fac
DTSTAMP:20260421T091131Z
SUMMARY:Dotační příležitosti v KV Kraji III
DESCRIPTION:Název akce: Dotační příležitosti v KV Kraji III\nURL: htt
 ps://www.spcr.cz/dotacni-prilezitosti-v-kv-kraji-iii\nPopis: \n\nSvaz prů
 myslu a dopravy ČR společně s partnery si Vás v rámci projektu „Pod
 pora národního\, odvětvového a regionálního sociálního dialogu v 
 ČR“ dovoluje pozvat na diskusní fórum Dotační příležitosti v Kar
 lovarském kraji III. Seznámíte se s právě probíhajícími programy 
 a širokým spektrem dotačních možností.ProgramTematické výzvy - OP 
 STVouchery pro podnikatele II - OP STPodpora podnikatelů od startupu po i
 nvestoraVýzvy OP TAK v roce 2026Příspěvky na podporu zaměstnanosti a 
 vzděláváníPodpora podnikání v Karlovarském kraji: Vzdělávání a 
 Rovnost odměňováníMožnosti podpory z TA ČRNa místě se potkáte se 
 zástupci:Agentury pro podnikání a inovaceAgentury pro podporu podnikán
 í a investic CzechInvestInovačního centra InionKrajského inovačního 
 centra Karlovarského krajeKrajské hospodářské komory Karlovarského k
 rajeSvazu průmyslu a dopravy ČRÚřadu práce ČR Krajské pobočky Karl
 ovy VaryRegistrujte se zde \n
URL:https://www.spcr.cz/dotacni-prilezitosti-v-kv-kraji-iii
DTSTART:20260511T100000
DTEND:20260511T130000
LOCATION:KULTURNÍ A KREATIVNÍ CENTRUM\, Dykova 19\, Karlovy Vary
END:VEVENT
END:VCALENDAR
