BEGIN:VCALENDAR
PRODID:-//eluceo/ical//2.0/EN
VERSION:2.0
CALSCALE:GREGORIAN
BEGIN:VEVENT
UID:71a79602112bbf5418e394a647e60e76
DTSTAMP:20260421T091131Z
SUMMARY:ITF 2026 Summit: Funding Resilient Transport
DESCRIPTION:Název akce: ITF 2026 Summit: Funding Resilient Transport\nURL:
  https://www.spcr.cz/itf-2026-summit-funding-resilient-transport\nPopis: \
 n\nThe International Transport Forum (ITF) at the OECD invites participant
 s to attend the ITF 2026 Summit\, the world’s largest gathering of trans
 port ministers\, taking place on 6–8 May 2026 in Leipzig\, Germany.The S
 ummit will be held under the Presidency of Azerbaijan and the Vice-Preside
 ncy of Czechia and will bring together policymakers\, business leaders\, i
 nternational organisations and academia to discuss the future of transport
  and mobility.The ITF Annual Summit is a premier global platform for dialo
 gue on transport policy. Each year\, participants meet to address key stra
 tegic challenges shaping transport systems worldwide. In 2026\, the focus 
 will be on “Funding Resilient Transport.”This year’s programme will 
 explore how to mobilise investments and financing strategies to strengthen
  the resilience of transport systems\, with an emphasis on:long-term conne
 ctivity and infrastructure developmentefficiency and reliability of transp
 ort operationsinnovative financing models and partnershipsThe Summit offer
 s a combination of high-level discussions\, networking opportunities and e
 xpert insights across all transport modes:Meet transport ministers and sen
 ior policymakers from 69 countriesConnect with industry leaders\, investor
 s and international organisationsGain insights into global transport trend
 s and financing strategiesPresent projects and engage with international m
 edia through dedicated media facilitiesParticipants can also contribute to
  the programme by suggesting speakers or engage through media and networki
 ng opportunities. Further details\, including the full programme and regis
 tration\, are available on the official Summit website.More information an
 d registrationFor additional inquiries\, you can contact the organisers at
 : summit@itf-oecd.org \n
URL:https://www.spcr.cz/itf-2026-summit-funding-resilient-transport
DTSTART:20260506T090000
DTEND:20260508T160000
LOCATION:Leipzig\, Germany
END:VEVENT
END:VCALENDAR
