BEGIN:VCALENDAR
PRODID:-//eluceo/ical//2.0/EN
VERSION:2.0
CALSCALE:GREGORIAN
BEGIN:VEVENT
UID:c98b6ceed223dad9a638ea3423960c07
DTSTAMP:20260420T150640Z
SUMMARY:Jednání s delegací Chile - železniční projekty
DESCRIPTION:Název akce: Jednání s delegací Chile - železniční projek
 ty\nURL: https://www.spcr.cz/jednani-s-delegaci-chile-zeleznicni-projekty\
 nPopis: \n\nEvropská komise zve evropské firmy k účasti na jednání s
  delegací Chile\, které se zaměří na přípravu a realizaci velkých 
 železničních projektů v rámci iniciativy Global Gateway. Jednání pr
 oběhnou v Bruselu prezenční i online formou.Předmětem jednání bude 
 prezentace strategických železničních koridorů a projektových portfo
 lií\, diskuse o obchodních a investičních příležitostech\, možnost
  bilaterálních jednání se zástupci veřejných investorů a železni
 čních autorit.Akce je určena pro firmy z oblasti železniční infrastr
 uktury\, technologií\, rolling stock\, EPC\, signalizace\, logistiky\, in
 vestory\, banky\, DFI/ECA a další finanční instituce.Registrujte se zd
 eV přihlášce lze požádat rovněž o one-to-one schůzky a návštěvy
  v terénu. Jednání proběhnou hybridně\; přístup k online účasti o
 bdrží pouze registrovaní zájemci. Podmínkou účasti je registrace fi
 rmy v EU Transparency Register. \n
URL:https://www.spcr.cz/jednani-s-delegaci-chile-zeleznicni-projekty
DTSTART:20260504T090000
DTEND:20260504T170000
LOCATION:Brusel\, Belgie
END:VEVENT
END:VCALENDAR
