BEGIN:VCALENDAR
PRODID:-//eluceo/ical//2.0/EN
VERSION:2.0
CALSCALE:GREGORIAN
BEGIN:VEVENT
UID:d7382d676b0f4ba901dcf8a7177a995a
DTSTAMP:20260422T154430Z
SUMMARY:Příležitosti v egyptském automotive - webinář
DESCRIPTION:Název akce: Příležitosti v egyptském automotive - webiná
 ř\nURL: https://www.spcr.cz/prilezitosti-v-egyptskem-automotive-webinar\n
 Popis: \n\nVelvyslanectví České republiky v Káhiře vás srdečně zve
  na online seminář zaměřený na aktuální příležitosti v egyptské
 m automobilovém sektoru. Cílem tohoto setkání je zprostředkovat česk
 ým firmám přímý kontakt na klíčové egyptské aktéry a zároveň p
 ředstavit následující témata:specifika automobilového průmyslu v Eg
 yptě a sdílení zkušenosti z egyptského trhuaktuální obchodní pří
 ležitostimožnosti spolupráce (včetně případného přesunu části v
 ýroby do Egypta\, na které se specializuje AOI)podporu ze strany GAFI a 
 efektivní vstup na trhBěhem přenosu bude také prostor pro dotazy.Řeč
 níci:Pan Karim Naggar (CEO\, Kayan Trade) - Oficiální dovozce a distrib
 utor značky ŠKODA v Egyptě. Pan Karim Naggar má více než 30 let zku
 šeností v automobilovém průmyslu\, zejména s řízením a rozvojem zn
 aček koncernu Volkswagen Group v Egyptě. Má proto unikátní vhled do f
 ungování celého dodavatelského řetězce\, přehled o možnostech zapo
 jení do sektoru i úskalích egyptského trhu.Pan Nasser El Sadany (porad
 ce předsedy Arab Organization for Industrialization – AOI) – Pan Nass
 er blíže představí úlohu AOI v egyptském průmyslu. AOI je klíčov
 ý státní subjekt s rozsáhlou působností v oblasti průmyslu\, výrob
 y a obranného sektoru a firmám z automobilového průmyslu může nabíd
 nout různé formy spolupráce včetně možností přesunu části výrob
 y do Egypta.Paní Mai Tawfik (senior officer v General Authority for Inves
 tment and Free Zones – GAFI) – Paní Mai Tawfik prostřednictvím své
  prezentace pomůže firmám nahlédnout do systému fungování státníh
 o úřadu pro investice\, který slouží jako vstupní brána pro zahrani
 ční firmy\, usnadňuje proces zakládání podniků a nabízí investič
 ní pobídky.Svou účast prosím potvrďte na e-mail: ondrej.cuchy@mzv.go
 v.cz Následně Vám bude zaslán odkaz k připojení.Seminář se uskute
 ční prostřednictvím platformy MS Teams \n
URL:https://www.spcr.cz/prilezitosti-v-egyptskem-automotive-webinar
DTSTART:20260429T100000
DTEND:20260429T120000
LOCATION:
END:VEVENT
END:VCALENDAR
