BEGIN:VCALENDAR
PRODID:-//eluceo/ical//2.0/EN
VERSION:2.0
CALSCALE:GREGORIAN
BEGIN:VEVENT
UID:5bf091e7c15df21be83af56a78ca046c
DTSTAMP:20260423T145806Z
SUMMARY:Česko-kambodžské obchodní fórum
DESCRIPTION:Název akce: Česko-kambodžské obchodní fórum\nURL: https:/
 /www.spcr.cz/cesko-kambodzske-obchodni-forum\nPopis: \n\nRádi bychom Vás
  pozvali na Česko-kambodžské obchodní fórum\, které se bude konat p
 ři příležitosti návštěvy kambodžského vicepremiéra H.E. SUN Chan
 thol a významných zástupců kambodžského businessu. Připravované bu
 siness fórum se bude konat 7.11. 2024 od 8:30 hod. v prostorách Minister
 stva průmyslu a obchodu ČR (Na Františku 32\, 110 15 Praha). Prioritn
 ími sektory tohoto setkání jsou elektronika\, automotive\, potravinář
 ství\, turistika\, farmacie\, obnovitelné zdroje energie.V případě z
 ájmu vás prosíme registrovat se přes registrační link: registrace na
  Česko-kambodžské business fórum Pro více informací kontaktujte ma
 nažera Sekce vnějších vztahů Dominika Jozu (email: djoza@spcr.cz\, 
 tel. 733 126 501). Více o Kambodži a obchodních příležitostech v t
 éto zemi najdete pod odkazem níže:Kambodža - Businessinfo\n
URL:https://www.spcr.cz/cesko-kambodzske-obchodni-forum
DTSTART:20250107T083000
DTEND:20250107T110000
LOCATION:
END:VEVENT
END:VCALENDAR
