BEGIN:VCALENDAR
PRODID:-//eluceo/ical//2.0/EN
VERSION:2.0
CALSCALE:GREGORIAN
BEGIN:VEVENT
UID:8585936ec1d7702d1b98eff35127fb96
DTSTAMP:20260423T125643Z
SUMMARY:Česko-makedonský obchodní seminář
DESCRIPTION:Název akce: Česko-makedonský obchodní seminář\nURL: https
 ://www.spcr.cz/cesko-makedonsky-obchodni-seminar\nPopis: \n\nRádi bychom 
 Vás pozvali na Česko-makedonský obchodní seminář\, které se bude 
 konat při příležitosti návštěvy makedonské ministryně energetiky\
 , hornictví a přírodních zdrojů Sanji Bozhinovske a ministra zahrani
 čních věcí a zahraničního obchodu Timcha Muchinskiho. Připravovan
 é business fórum se bude konat 5. 11. 2024 od 8:30 hod. v prostorách Mi
 nisterstva průmyslu a obchodu ČR (Na Františku 32\, 110 15 Praha).Toto 
 businessové setkání je určeno prioritně firmám\, které mají o make
 donský trh zájem\, resp. na tomto trhu již aktivně působí. Prioritn
 ími sektory tohoto setkání jsou energetika a přírodní (obnovitelné)
  zdroje\, oběhové hospodářství a vodohospodářství\, zemědělství
 \, železniční a dopravní infrastruktura a obranný průmysl. V příp
 adě zájmu vás prosíme registrovat se přes registrační link: regist
 race na Česko-makedonské business fórum Pro více informací kontaktuj
 te manažera Sekce vnějších vztahů Martina Natafalušiho (email: mna
 tafalusi@spcr.cz). Více o Makedonii a obchodních příležitostech v t
 éto zemi najdete pod odkazem níže: Makedonie - Businessinfo\n
URL:https://www.spcr.cz/cesko-makedonsky-obchodni-seminar
DTSTART:20250122T083000
DTEND:20250122T120000
LOCATION:
END:VEVENT
END:VCALENDAR
