BEGIN:VCALENDAR
PRODID:-//eluceo/ical//2.0/EN
VERSION:2.0
CALSCALE:GREGORIAN
BEGIN:VEVENT
UID:8378e01b758f750d3d3fc45972d62ef3
DTSTAMP:20260423T162829Z
SUMMARY:Kontrola zahraničního obchodu s vojenským materiálem
DESCRIPTION:Název akce: Kontrola zahraničního obchodu s vojenským mater
 iálem\nURL: https://www.spcr.cz/kontrola-zahranicniho-obchodu-s-vojenskym
 -materialem\nPopis: \n\nDovolujeme si Vám předat pozvání Ministerstva 
 průmyslu a obchodu ČR na seminář určený především pro pracovní
 ky vývozců\, kteří jsou zodpovědní za praktické provádění obchod
 u s vojenským materiálem. Účastníci budou seznámeni s obecnou prá
 vní úpravou\, povolovacím řízením včetně žádosti o povolení\, 
 jeho rozšíření a hlášení změn\, a licenčním řízením\, včetn
 ě podmínek pro podávání žádostí o licence\, prodlužování doby p
 latnosti licence\, informací o jejich využívání a podmínek pro podá
 ní žádosti o mezinárodní dovozní certifikát. Účastníkům bude ro
 vněž představena ePodatelna Licenční správy včetně praktických p
 říkladů práce s aplikací.Program a monžost registrace na seminář
  zde.\n
URL:https://www.spcr.cz/kontrola-zahranicniho-obchodu-s-vojenskym-materiale
 m
DTSTART:20250126T090000
DTEND:20250126T133000
LOCATION:
END:VEVENT
END:VCALENDAR
