BEGIN:VCALENDAR
PRODID:-//eluceo/ical//2.0/EN
VERSION:2.0
CALSCALE:GREGORIAN
BEGIN:VEVENT
UID:bbba0cc07eb6cce20a0a82833d470be0
DTSTAMP:20260423T150144Z
SUMMARY:Kontrola exportu zboží dvojího užití
DESCRIPTION:Název akce: Kontrola exportu zboží dvojího užití\nURL: ht
 tps://www.spcr.cz/kontrola-exportu-zbozi-dvojiho-uziti\nPopis: \n\nDovoluj
 eme si Vám předat pozvání Ministerstva průmyslu a obchodu ČR na semi
 nář určený především pro pracovníky vývozců\, kteří jsou zod
 povědní za praktické provádění vývozu zboží dvojího použití. 
 Účastníci budou seznámeni s legislativou vývozních kontrol\, sankč
 ními opatřeními a zahraničně politickými aspekty v oblasti vývozn
 ích kontrol. Účastníkům bude rovněž představena ePodatelna Licenč
 ní správy včetně praktických příkladů práce s aplikací.Program 
 a monžost registrace na seminář zde.\n
URL:https://www.spcr.cz/kontrola-exportu-zbozi-dvojiho-uziti
DTSTART:20250119T093000
DTEND:20250119T124000
LOCATION:
END:VEVENT
END:VCALENDAR
