BEGIN:VCALENDAR
PRODID:-//eluceo/ical//2.0/EN
VERSION:2.0
CALSCALE:GREGORIAN
BEGIN:VEVENT
UID:d4f63c4573a7ab044dcad647a88f48ea
DTSTAMP:20260423T162959Z
SUMMARY:Kontrola obchodu s nevojenskými zbraněmi a střelivem
DESCRIPTION:Název akce: Kontrola obchodu s nevojenskými zbraněmi a stře
 livem\nURL: https://www.spcr.cz/kontrola-obchodu-s-nevojenskymi-zbranemi-s
 trelivem\nPopis: \n\nDovolujeme si Vám předat pozvání Ministerstva pr
 ůmyslu a obchodu ČR na seminář určený především pro firmy a zam
 ěstnance firem\, které obchodují se zbraněmi a střelivem nevojenskéh
 o charakteru.Účastníkům semináře bude prezentováno aktuální zněn
 í a praktický výklad konkrétní související legislativy\, budou sezn
 ámeni s průběhem povolovacího řízení\, včetně formulářů žád
 ostí o povolení\, vyžadovaných dokladů\, platnosti povolení\, podmí
 nek pro podání žádosti a potvrzení Mezinárodního dovozního certifi
 kátu i povinného hlášení realizace. Účastníkům bude rovněž pře
 dstavena ePodatelna Licenční správy včetně praktických příkladů p
 ráce s aplikací.\nProgram a monžost registrace na seminář zde. \n
URL:https://www.spcr.cz/kontrola-obchodu-s-nevojenskymi-zbranemi-strelivem
DTSTART:20241112T090000
DTEND:20241112T133000
LOCATION:
END:VEVENT
END:VCALENDAR
