BEGIN:VCALENDAR
PRODID:-//eluceo/ical//2.0/EN
VERSION:2.0
CALSCALE:GREGORIAN
BEGIN:VEVENT
UID:7c59260682f7b63109ddb14edf87687b
DTSTAMP:20260423T162941Z
SUMMARY:Konference Road Safety & Sustainability Conference: Innovating for 
 Tomorrow
DESCRIPTION:Název akce: Konference Road Safety & Sustainability Conference
 : Innovating for Tomorrow\nURL: https://www.spcr.cz/konference-road-safety
 -sustainability-conference-innovating-tomorrow\nPopis: \n\nRádi bychom V
 ás pozvali na konferenci a výstavu „Road Safety & Sustainability Confe
 rence. Ve dnech 3. až 4. listopadu 2024 se ve městě Rijádu v Saúdsk
 é Arábii uskuteční konference „Inovace pro zítřek“\, kterou po
 řádá saudské Ministerstvo dopravy a logistických služeb a Generáln
 í ředitelství silnic.\nKonference nabídne diskuzi k tématu „Bezpeč
 nost silničního provozu a budoucnost silnic“ a řadu podnětných zase
 dání\, včetně hlavních projevů\, odborných panelových diskusí a i
 nteraktivních workshopů. Účastníci proniknou do významu bezpečnosti
  a udržitelnosti silničního provozu v regionálním kontextu se zaměř
 ením na osvědčené mezinárodní postupy\, nejmodernější technologic
 ký pokrok a transformační roli umělé inteligence a inteligentních do
 pravních systémů (ITS) při utváření budoucích dopravních strategi
 í.\nV průběhu programu se pozornost přesune na téma „Udržitelné s
 ilnice a doprava“\, kde se diskuse zaměří na inovativní dopravní ř
 ešení\, vládní politiky zaměřené na snižování emisí a bezprobl
 émovou integraci zelené infrastruktury pro zvýšení bezpečnosti silni
 čního provozu. Hlavním bodem programu bude úloha umělé inteligence a
  inteligentních dopravních systémů v rozvoji udržitelné mobility\, k
 terá ukáže\, jak tyto technologie mohou optimalizovat řízení dopravy
 \, zvýšit bezpečnost vozidel a snížit dopad na životní prostředí.
 \nVíce informací najdete na tomto odkazu. \n \n \n
URL:https://www.spcr.cz/konference-road-safety-sustainability-conference-in
 novating-tomorrow
DTSTART:20241103T080000
DTEND:20241104T170000
LOCATION:
END:VEVENT
END:VCALENDAR
